Workbook

Sheet Takeoff
A2: Plan dated 04.21.21
A3: Building Type | B3: 18 Plex | C3: 28 Plex | D3: Carriage | E3: Club
A4: Number of Buildings | B4: 2 | C4: 7 | D4: 6 | E4: 1
A7: 1st Wall Framing
A8: Material | B8: 18 Plex | C8: 28 Plex | D8: Carriage | E8: Club | G8: Notes | I8: Sum of rows
A9: 2x4-104-5/8 #2 Hem Fir | B9: 2062 | C9: 3461 | D9: 264 | I9: =SUMPRODUCT(B9:E9,$B$4:$E$4) -> 29935
A10: 2x6-104-5/8 #2 Hem Fir | B10: 1489 | C10: 1797 | D10: 268 | I10: =SUMPRODUCT(B10:E10,$B$4:$E$4) -> 17165
A11: 2x4-116-5/8 #2 Hem Fir | E11: 93 | I11: =SUMPRODUCT(B11:E11,$B$4:$E$4) -> 93
A12: 2x6-116-5/8 #2 Hem Fir | E12: 70 | I12: =SUMPRODUCT(B12:E12,$B$4:$E$4) -> 70
A13: 2x4-12 #2 Hem Fir | B13: 207 | C13: 335 | D13: 42 | I13: =SUMPRODUCT(B13:E13,$B$4:$E$4) -> 3011
A14: 2x4-14 #2 Hem Fir | B14: 207 | C14: 333 | D14: 42 | I14: =SUMPRODUCT(B14:E14,$B$4:$E$4) -> 2997
A15: 2x4-16 #2 Hem Fir | B15: 207 | C15: 310 | D15: 42 | I15: =SUMPRODUCT(B15:E15,$B$4:$E$4) -> 2836
A16: 2x6-12' #2 Hem Fir | B16: 148 | C16: 214 | D16: 30 | E16: 32 | I16: =SUMPRODUCT(B16:E16,$B$4:$E$4) -> 2006
A17: 2x6-14' #2 Hem Fir | B17: 172 | C17: 213 | D17: 30 | E17: 6 | I17: =SUMPRODUCT(B17:E17,$B$4:$E$4) -> 2021
A18: 2x6-16' #2 Hem Fir | B18: 181 | C18: 222 | D18: 36 | E18: 57 | I18: =SUMPRODUCT(B18:E18,$B$4:$E$4) -> 2189
A19: 2x6-20' #2 Hem Fir | B19: 195 | C19: 195 | I19: =SUMPRODUCT(B19:E19,$B$4:$E$4) -> 1755
A20: 2x8-8' #2 Hem Fir | I20: =SUMPRODUCT(B20:E20,$B$4:$E$4) -> 0
A21: 2x8-10' #2 Hem Fir | B21: 4 | E21: 5 | I21: =SUMPRODUCT(B21:E21,$B$4:$E$4) -> 13
A22: 2x8-12' #2 Hem Fir | C22: 12 | I22: =SUMPRODUCT(B22:E22,$B$4:$E$4) -> 84
A23: 2x8-14' #2 Hem Fir | B23: 9 | C23: 12 | E23: 6 | I23: =SUMPRODUCT(B23:E23,$B$4:$E$4) -> 108
A24: 2x8-16' #2 Hem Fir | B24: 6 | C24: 2 | D24: 3 | I24: =SUMPRODUCT(B24:E24,$B$4:$E$4) -> 44
A25: 2x10-8 #2 Hem Fir | I25: =SUMPRODUCT(B25:E25,$B$4:$E$4) -> 0
A26: 2x10-10 #2 Hem Fir | B26: 3 | I26: =SUMPRODUCT(B26:E26,$B$4:$E$4) -> 6
A27: 2x10-12 #2 Hem Fir | B27: 10 | C27: 12 | I27: =SUMPRODUCT(B27:E27,$B$4:$E$4) -> 104
A28: 2x10-14 #2 Hem Fir | B28: 10 | C28: 16 | I28: =SUMPRODUCT(B28:E28,$B$4:$E$4) -> 132
A29: 2x10-16 #2 Hem Fir | B29: 9 | C29: 11 | E29: 3 | I29: =SUMPRODUCT(B29:E29,$B$4:$E$4) -> 98
A30: 2x12-8 #2 Hem Fir | I30: =SUMPRODUCT(B30:E30,$B$4:$E$4) -> 0
A31: 2x12-10 #2 Hem Fir | D31: 18 | I31: =SUMPRODUCT(B31:E31,$B$4:$E$4) -> 108
A32: 2x12-12 #2 Hem Fir | B32: 6 | C32: 8 | I32: =SUMPRODUCT(B32:E32,$B$4:$E$4) -> 68
A33: 2x12-14 #2 Hem Fir | B33: 7 | C33: 8 | I33: =SUMPRODUCT(B33:E33,$B$4:$E$4) -> 70
A34: 2x12-16 #2 Hem Fir | B34: 6 | C34: 7 | E34: 3 | I34: =SUMPRODUCT(B34:E34,$B$4:$E$4) -> 64
A35: 6x6-10' #2 Hem Fir | I35: =SUMPRODUCT(B35:E35,$B$4:$E$4) -> 0
A36: 6x6-12' #2 Hem Fir | E36: 4 | I36: =SUMPRODUCT(B36:E36,$B$4:$E$4) -> 4
A37: 2x4-12 treated | B37: 29 | C37: 46 | D37: 9 | E37: 8 | I37: =SUMPRODUCT(B37:E37,$B$4:$E$4) -> 442
A38: 2x4-14 treated | B38: 31 | C38: 50 | D38: 10 | E38: 8 | I38: =SUMPRODUCT(B38:E38,$B$4:$E$4) -> 480
A39: 2x4-16 treated | B39: 25 | C39: 40 | D39: 8 | E39: 7 | I39: =SUMPRODUCT(B39:E39,$B$4:$E$4) -> 385
A40: 2x6-12 treated | B40: 30 | C40: 36 | D40: 18 | E40: 20 | I40: =SUMPRODUCT(B40:E40,$B$4:$E$4) -> 440
A41: 2x6-14 treated | B41: 32 | C41: 39 | D41: 20 | E41: 21 | I41: =SUMPRODUCT(B41:E41,$B$4:$E$4) -> 478
A42: 2x6-16 treated | B42: 26 | C42: 30 | D42: 16 | E42: 17 | I42: =SUMPRODUCT(B42:E42,$B$4:$E$4) -> 375
A43: 4x4-10 Treated | B43: 8 | C43: 8 | I43: =SUMPRODUCT(B43:E43,$B$4:$E$4) -> 72
A44: 5-1/2"x16' LVL | E44: 18 | I44: =SUMPRODUCT(B44:E44,$B$4:$E$4) -> 18
A45: 7-1/4"x10' LVL | E45: 3 | I45: =SUMPRODUCT(B45:E45,$B$4:$E$4) -> 3
A46: 7-1/4"x14' LVL | C46: 2 | I46: =SUMPRODUCT(B46:E46,$B$4:$E$4) -> 14
A47: 7-1/4"x18' LVL | E47: 3 | I47: =SUMPRODUCT(B47:E47,$B$4:$E$4) -> 3
A48: 9-1/4"x10' LVL | B48: 3 | C48: 6 | I48: =SUMPRODUCT(B48:E48,$B$4:$E$4) -> 48
A49: 9-1/4"x16' LVL | D49: 4 | I49: =SUMPRODUCT(B49:E49,$B$4:$E$4) -> 24
A50: 9-1/4"x19' LVL | I50: =SUMPRODUCT(B50:E50,$B$4:$E$4) -> 0
A51: 9-1/4"x20' LVL | B51: 4 | C51: 4 | I51: =SUMPRODUCT(B51:E51,$B$4:$E$4) -> 36
A52: 9-1/4"x22' LVL | B52: 6 | C52: 6 | I52: =SUMPRODUCT(B52:E52,$B$4:$E$4) -> 54
A53: 11-1/4"x11' LVL | E53: 3 | I53: =SUMPRODUCT(B53:E53,$B$4:$E$4) -> 3
A54: 11-1/4"x27' LVL | E54: 3 | I54: =SUMPRODUCT(B54:E54,$B$4:$E$4) -> 3
A55: 11-1/4"x32' LVL | E55: 3 | I55: =SUMPRODUCT(B55:E55,$B$4:$E$4) -> 3
A56: 18"x13' LVL | B56: 3 | I56: =SUMPRODUCT(B56:E56,$B$4:$E$4) -> 6
A57: 3-1/2"x7"x10' Parallam | B57: 4 | C57: 4 | I57: =SUMPRODUCT(B57:E57,$B$4:$E$4) -> 36
A58: 5-1/4"x7"x10' Parallam | B58: 2 | C58: 4 | I58: =SUMPRODUCT(B58:E58,$B$4:$E$4) -> 32
A59: 4x9-7/16" OSB | B59: 287 | C59: 351 | D59: 67 | I59: =SUMPRODUCT(B59:E59,$B$4:$E$4) -> 3433
A60: 4x10-7/16" OSB | E60: 197 | I60: =SUMPRODUCT(B60:E60,$B$4:$E$4) -> 197
A61: 4x8-5/8" Gyp | I61: =SUMPRODUCT(B61:E61,$B$4:$E$4) -> 0
A62: 4x9-5/8" Gyp | B62: 9 | C62: 11 | I62: =SUMPRODUCT(B62:E62,$B$4:$E$4) -> 95
A63: 4x8-1/2" Treated Plywood | B63: 1 | C63: 1 | D63: 1 | I63: =SUMPRODUCT(B63:E63,$B$4:$E$4) -> 15
A64: 4x8-5/8" Treated Plywood | B64: 1 | C64: 1 | D64: 1 | I64: =SUMPRODUCT(B64:E64,$B$4:$E$4) -> 15
A65: 4x8-7/16" LP Flameblock | B65: 8 | C65: 8 | G65: See detail 10/A7-4.1 | I65: =SUMPRODUCT(B65:E65,$B$4:$E$4) -> 72
A66: 3-1/2"x50' Sill Seal | I66: =SUMPRODUCT(B66:E66,$B$4:$E$4) -> 0
A67: 5-1/2"x50' Sill Seal | B67: 11 | C67: 14 | I67: =SUMPRODUCT(B67:E67,$B$4:$E$4) -> 120
A68: 7-1/4"x50' Sill Seal | I68: =SUMPRODUCT(B68:E68,$B$4:$E$4) -> 0
A69: A34 Framing Angle | B69: 300 | C69: 300 | D69: 5 | I69: =SUMPRODUCT(B69:E69,$B$4:$E$4) -> 2730
A70: A35 Framing Angle | E70: 280 | I70: =SUMPRODUCT(B70:E70,$B$4:$E$4) -> 280
A71: ABU44 Post Base | B71: 8 | C71: 8 | I71: =SUMPRODUCT(B71:E71,$B$4:$E$4) -> 72
A72: HDU2-SDS2.5 HoldDown | B72: 8 | C72: 12 | E72: 1 | I72: =SUMPRODUCT(B72:E72,$B$4:$E$4) -> 101
A73: HDU4-SDS2.5 HoldDown | B73: 14 | C73: 28 | D73: 13 | E73: 1 | I73: =SUMPRODUCT(B73:E73,$B$4:$E$4) -> 303
A74: HDU5-SDS2.5 HoldDown | B74: 6 | C74: 8 | I74: =SUMPRODUCT(B74:E74,$B$4:$E$4) -> 68
A75: HDU8-SDS2.5 HoldDown | D75: 6 | E75: 10 | I75: =SUMPRODUCT(B75:E75,$B$4:$E$4) -> 46
A76: HDU11-SDS2.5 HoldDown | E76: 2 | I76: =SUMPRODUCT(B76:E76,$B$4:$E$4) -> 2
A77: HDU14-SDS2.5 HoldDown | E77: 2 | I77: =SUMPRODUCT(B77:E77,$B$4:$E$4) -> 2
A78: CS16 Coil Strap 150' | B78: 2 | C78: 2 | E78: 1 | I78: =SUMPRODUCT(B78:E78,$B$4:$E$4) -> 19
A79: CMSTC16 Coil Strap 54' | E79: 2 | I79: =SUMPRODUCT(B79:E79,$B$4:$E$4) -> 2
A80: HH6 Header Hanger | B80: 16 | C80: 16 | I80: =SUMPRODUCT(B80:E80,$B$4:$E$4) -> 144
A81: LCE4 Post Cap | B81: 8 | C81: 8 | I81: =SUMPRODUCT(B81:E81,$B$4:$E$4) -> 72
A82: HUC212-3 Concealed Flange Hanger | E82: 2 | I82: =SUMPRODUCT(B82:E82,$B$4:$E$4) -> 2
A83: SDW 1/4"x4-5/8"Structural Screw | B83: 700 | C83: 1000 | D83: 100 | E83: 600 | I83: =SUMPRODUCT(B83:E83,$B$4:$E$4) -> 9600
A84: SDW 1/4"x5" Structural Screw | B84: 150 | C84: 125 | E84: 100 | I84: =SUMPRODUCT(B84:E84,$B$4:$E$4) -> 1275
A85: SSTB16 Anchor | E85: 1 | I85: =SUMPRODUCT(B85:E85,$B$4:$E$4) -> 1
A86: SB5/8x24 Anchor | E86: 1 | I86: =SUMPRODUCT(B86:E86,$B$4:$E$4) -> 1
A87: SB7/8x24 Anchor | E87: 10 | I87: =SUMPRODUCT(B87:E87,$B$4:$E$4) -> 10
A88: SB1x24 Anchor | E88: 4 | I88: =SUMPRODUCT(B88:E88,$B$4:$E$4) -> 4
A89: 1-3/4" Dia Plate Washer | B89: 250 | C89: 275 | D89: 100 | E89: 250 | I89: =SUMPRODUCT(B89:E89,$B$4:$E$4) -> 3275
I90: =SUMPRODUCT(B90:E90,$B$4:$E$4) -> 0
A91: 2nd Level Floor Framing | I91: =SUMPRODUCT(B91:E91,$B$4:$E$4) -> 0
A92: Material | B92: 18 Plex | C92: 28 Plex | D92: Carriage | E92: Club | G92: Notes | I92: =SUMPRODUCT(B92:E92,$B$4:$E$4) -> 0
A93: 2x4-12 #2 Hem Fir | B93: 85 | C93: 112 | D93: 35 | I93: =SUMPRODUCT(B93:E93,$B$4:$E$4) -> 1164
A94: 2x4-14 #2 Hem Fir | B94: 94 | C94: 126 | D94: 40 | I94: =SUMPRODUCT(B94:E94,$B$4:$E$4) -> 1310
A95: 2x4-16 #2 Hem Fir | B95: 72 | C95: 93 | D95: 28 | I95: =SUMPRODUCT(B95:E95,$B$4:$E$4) -> 963
A96: 2x6-12' #2 Hem Fir | B96: 34 | C96: 38 | D96: 12 | I96: =SUMPRODUCT(B96:E96,$B$4:$E$4) -> 406
A97: 2x6-14' #2 Hem Fir | B97: 35 | C97: 40 | D97: 14 | I97: =SUMPRODUCT(B97:E97,$B$4:$E$4) -> 434
A98: 2x6-16' #2 Hem Fir | B98: 25 | C98: 32 | D98: 13 | I98: =SUMPRODUCT(B98:E98,$B$4:$E$4) -> 352
A99: 2x8-8' #2 Hem Fir | I99: =SUMPRODUCT(B99:E99,$B$4:$E$4) -> 0
A100: 2x8-10' #2 Hem Fir | B100: 4 | C100: 12 | I100: =SUMPRODUCT(B100:E100,$B$4:$E$4) -> 92
A101: 2x8-12' #2 Hem Fir | B101: 27 | C101: 28 | I101: =SUMPRODUCT(B101:E101,$B$4:$E$4) -> 250
A102: 2x8-14' #2 Hem Fir | I102: =SUMPRODUCT(B102:E102,$B$4:$E$4) -> 0
A103: 2x8-16' #2 Hem Fir | B103: 6 | C103: 2 | I103: =SUMPRODUCT(B103:E103,$B$4:$E$4) -> 26
...

Sheet Project Totals
A2: Plan dated 04.21.21
A5: Framing Materials
A6: Material | B6: Qty | D6: Notes
A7: 2x4-104-5/8 #2 Hem Fir | B7: =Takeoff!I9+Takeoff!I167+Takeoff!I250 -> 64540
A8: 2x6-104-5/8 #2 Hem Fir | B8: =Takeoff!I10+Takeoff!I168+Takeoff!I251 -> 41462
A9: 2x4-116-5/8 #2 Hem Fir | B9: =Takeoff!I11 -> 93
A10: 2x6-116-5/8 #2 Hem Fir | B10: =Takeoff!I12 -> 70
A11: 2x4-12 #2 Hem Fir | B11: =Takeoff!I11+Takeoff!I169+Takeoff!I252+Takeoff!I287+Takeoff!I205+Takeoff!I93+Takeoff!I13 -> 9683
A12: 2x4-14 #2 Hem Fir | B12: =Takeoff!I12+Takeoff!I170+Takeoff!I253+Takeoff!I288+Takeoff!I206+Takeoff!I94+Takeoff!I14 -> 10363 | D12: 2x4 #2 HF LF = | E12: =B11*12+B12*14+B13*16 -> 454398
A13: 2x4-16 #2 Hem Fir | B13: =Takeoff!I13+Takeoff!I171+Takeoff!I254+Takeoff!I289+Takeoff!I207+Takeoff!I95+Takeoff!I15 -> 12070
A14: 2x6-12' #2 Hem Fir | B14: =Takeoff!I14+Takeoff!I172+Takeoff!I255+Takeoff!I290+Takeoff!I208+Takeoff!I96+Takeoff!I16 -> 9350
A15: 2x6-14' #2 Hem Fir | B15: =Takeoff!I15+Takeoff!I173+Takeoff!I256+Takeoff!I291+Takeoff!I209+Takeoff!I97+Takeoff!I17 -> 9673 | D15: 2x6 #2 HF LF = | E15: =B14*12+B15*14+B16*16+B17*20 -> 433074
A16: 2x6-16' #2 Hem Fir | B16: =Takeoff!I16+Takeoff!I174+Takeoff!I257+Takeoff!I292+Takeoff!I210+Takeoff!I98+Takeoff!I18 -> 9397
A17: 2x6-20' #2 Hem Fir | B17: =Takeoff!I19 -> 1755
A18: 2x8-8' #2 Hem Fir | B18: =Takeoff!I175+Takeoff!I258+Takeoff!I293+Takeoff!I211+Takeoff!I99+Takeoff!I20 -> 0
A19: 2x8-10' #2 Hem Fir | B19: =Takeoff!I176+Takeoff!I259+Takeoff!I294+Takeoff!I212+Takeoff!I100+Takeoff!I21 -> 305 | D19: 2x8 #2 HF LF = | E19: =B20*12+B21*14+B19*10+B18*8+B22*16+B23*20 -> 26566
A20: 2x8-12' #2 Hem Fir | B20: =Takeoff!I177+Takeoff!I260+Takeoff!I295+Takeoff!I213+Takeoff!I101+Takeoff!I22 -> 559
A21: 2x8-14' #2 Hem Fir | B21: =Takeoff!I178+Takeoff!I261+Takeoff!I296+Takeoff!I214+Takeoff!I102+Takeoff!I23 -> 256
A22: 2x8-16' #2 Hem Fir | B22: =Takeoff!I179+Takeoff!I262+Takeoff!I297+Takeoff!I215+Takeoff!I103+Takeoff!I24 -> 214
A23: 2x8-20' #2 Hem Fir | B23: =Takeoff!I180 -> 490
A24: 2x10-8 #2 Hem Fir | B24: =Takeoff!I25+Takeoff!I105+Takeoff!I181+Takeoff!I216+Takeoff!I298+Takeoff!I263+Takeoff!I298 -> 0
A25: 2x10-10 #2 Hem Fir | B25: =Takeoff!I26+Takeoff!I106+Takeoff!I182+Takeoff!I217+Takeoff!I299+Takeoff!I264+Takeoff!I299 -> 36
A26: 2x10-12 #2 Hem Fir | B26: =Takeoff!I27+Takeoff!I107+Takeoff!I183+Takeoff!I218+Takeoff!I300+Takeoff!I265+Takeoff!I300 -> 521
A27: 2x10-14 #2 Hem Fir | B27: =Takeoff!I28+Takeoff!I108+Takeoff!I184+Takeoff!I219+Takeoff!I301+Takeoff!I266+Takeoff!I301 -> 544 | D27: 2x10 #2 HF LF = | E27: =B26*12+B27*14+B24*8+B25*10+B28*16 -> 19572
A28: 2x10-16 #2 Hem Fir | B28: =Takeoff!I29+Takeoff!I109+Takeoff!I185+Takeoff!I220+Takeoff!I302+Takeoff!I267+Takeoff!I302 -> 334
A29: 2x12-8 #2 Hem Fir | B29: =Takeoff!I30+Takeoff!I110+Takeoff!I186+Takeoff!I221+Takeoff!I303+Takeoff!I268+Takeoff!I303 -> 4
A30: 2x12-10 #2 Hem Fir | B30: =Takeoff!I31+Takeoff!I111+Takeoff!I187+Takeoff!I222+Takeoff!I304+Takeoff!I269+Takeoff!I304 -> 144
A31: 2x12-12 #2 Hem Fir | B31: =Takeoff!I32+Takeoff!I112+Takeoff!I188+Takeoff!I223+Takeoff!I305+Takeoff!I270+Takeoff!I305 -> 696
A32: 2x12-14 #2 Hem Fir | B32: =Takeoff!I33+Takeoff!I113+Takeoff!I189+Takeoff!I224+Takeoff!I306+Takeoff!I271+Takeoff!I306 -> 666 | D32: 2x12 #2HF LF = | E32: =B32*14+B33*16+B30*10+B31*12+B29*8 -> 30220
A33: 2x12-16 #2 Hem Fir | B33: =Takeoff!I34+Takeoff!I114+Takeoff!I190+Takeoff!I225+Takeoff!I307+Takeoff!I272+Takeoff!I307 -> 692
A34: 6x6-10' #2 Hem Fir | B34: =Takeoff!I35 -> 0
A35: 6x6-12' #2 Hem Fir | B35: =Takeoff!I36 -> 4
A36: 2x4-12 treated | B36: =Takeoff!I37 -> 442
A37: 2x4-14 treated | B37: =Takeoff!I38 -> 480
A38: 2x4-16 treated | B38: =Takeoff!I39 -> 385 | D38: 2x4 Treated LF = | E38: =B36*12+B37*14+B38*16 -> 18184
A39: 2x6-12 treated | B39: =Takeoff!I40 -> 440
A40: 2x6-14 treated | B40: =Takeoff!I41 -> 478 | D40: 2x6 Treated LF = | E40: =B39*12+14*B40+16*B41 -> 17972
A41: 2x6-16 treated | B41: =Takeoff!I42 -> 375
A42: 2x8-8' Treated | B42: =Takeoff!I128+Takeoff!I228 -> 0
A43: 2x8-10' Treated | B43: =Takeoff!I129+Takeoff!I229 -> 412 | D43: 2x8 Treated LF = | E43: =B42*8+B43*10+B44*12+B45*14+B46*16 -> 12188
A44: 2x8-12' Treated | B44: =Takeoff!I130+Takeoff!I230 -> 434
A45: 2x8-14' Treated | B45: =Takeoff!I131+Takeoff!I231 -> 122
A46: 2x8-16' Treated | B46: =Takeoff!I132+Takeoff!I232 -> 72
A47: 2x10-10 Treated | B47: =Takeoff!I133 -> 108
A48: 2x10-12 Treated | B48: =Takeoff!I134 -> 64
A49: 2x10-14 Treated | B49: =Takeoff!I135 -> 72 | D49: 2x10 Treated LF = | E49: =B47*10+B48*12+B49*14 -> 2856
A50: 8x10-8' Treated | B50: =Takeoff!I136 -> 36
A51: 12"x12' Stair Tread | B51: =Takeoff!I126 -> 216
A52: 1x8-12 #2 Pine | B52: =Takeoff!I127 -> 216
A53: 5-1/2"x16' LVL | B53: =Takeoff!I44 -> 18 | D53: 5-1/2" LVL LF = | E53: =B53*16 -> 288
A54: 7-1/4"x10' LVL | B54: =Takeoff!I45+Takeoff!I273+Takeoff!I308 -> 11 | D54: 7-1/4" LVL LF = | E54: =B54*10+B56*18+B55*14 -> 2320
A55: 7-1/4"x14' LVL | B55: =Takeoff!I46+Takeoff!I191+Takeoff!I274 -> 154
A56: 7-1/4"x18' LVL | B56: =Takeoff!I47 -> 3
A57: 9-1/4"x10' LVL | B57: =Takeoff!I48 -> 48
A58: 9-1/4"x16' LVL | B58: =Takeoff!I49 -> 24 | D58: 9-1/4" LVL LF = | E58: =B57*10+B58*16+B59*20+B60*22 -> 2772
A59: 9-1/4"x20' LVL | B59: =Takeoff!I51 -> 36
A60: 9-1/4"x22' LVL | B60: =Takeoff!I52 -> 54
A61: 11-1/4"x11' LVL | B61: =Takeoff!I53 -> 3
A62: 11-1/4"x27' LVL | B62: =Takeoff!I54 -> 3 | D62: 11-1/4" LVL LF = | E62: =B61*11+B62*27+B63*32 -> 210
A63: 11-1/4"x32' LVL | B63: =Takeoff!I55 -> 3
A64: 14"x12' LVL | D64: 14" LVL LF = | E64: =B64*12+B65*14 -> 756
A65: 14"x14' LVL | B65: =Takeoff!I116 -> 54
A66: 18"x3' LVL | B66: =Takeoff!I117 -> 104
A67: 18"x4' LVL | B67: =Takeoff!I118 -> 18
A68: 18"x10' LVL | B68: =Takeoff!I119+Takeoff!I226 -> 364 | D68: 18" LVL LF = | E68: =B67*4+B68*10+B69*12+B71*18+B70*13+B72*19+B66*3 -> 9859
A69: 18"x12' LVL | B69: =Takeoff!I120+Takeoff!I227 -> 284
A70: 18"x13' LVL | B70: =Takeoff!I56+Takeoff!I121 -> 81
A71: 18"x18' LVL | B71: =Takeoff!I122 -> 32
A72: 18"x19' LVL | B72: =Takeoff!I123 -> 42
A73: 3-1/2"x7"x10' Parallam | B73: =Takeoff!I57 -> 36
A74: 5-1/4"x7"x10' Parallam | B74: =Takeoff!I58 -> 32
A75: 4x8-5/8 Gyp | B75: =Takeoff!I234+Takeoff!I137 -> 257
A76: 4x9-5/8" Gyp | B76: =Takeoff!I276+Takeoff!I193+Takeoff!I62 -> 307
A77: 4x8-1/2" Treated Plywood | B77: =Takeoff!I63 -> 15
A78: 4x8-5/8" Treated Plywood | B78: =Takeoff!I64 -> 15
A79: 4x8-7/16" LP Flameblock | B79: =Takeoff!I65 -> 72
A80: 4x8-7/16" OSB | B80: =Takeoff!I309+Takeoff!I138+Takeoff!I235 -> 2985
A81: 4x9-7/16" OSB | B81: =Takeoff!I275+Takeoff!I192+Takeoff!I59 -> 8186
A82: 4x10-7/16" OSB | B82: =Takeoff!I60 -> 197
A83: 4x8-15/32 OSB | B83: =Takeoff!I310 -> 6561
A84: 4x8-3/4" T&G OSB | B84: =Takeoff!I236+Takeoff!I139 -> 5928
A85: Quart Tube Floor Adhesive | B85: =Takeoff!I237+Takeoff!I140 -> 2016
A86: 5-1/2"x50' Sill Seal | B86: =Takeoff!I67 -> 120
A88: Simpson and Hardware
A89: Material | B89: Qty | D89: Notes
A90: A34 Framing Angle | B90: =Takeoff!I69+Takeoff!I313 -> 3930
A91: A35 Framing Angle | B91: =Takeoff!I70+Takeoff!I194+Takeoff!I314 -> 4850
A92: ABU44 Post Base | B92: =Takeoff!I71 -> 72
A93: HDU2-SDS2.5 HoldDown | B93: =Takeoff!I72 -> 101
A94: HDU4-SDS2.5 HoldDown | B94: =Takeoff!I73 -> 303
A95: HDU5-SDS2.5 HoldDown | B95: =Takeoff!I74 -> 68
A96: HDU8-SDS2.5 HoldDown | B96: =Takeoff!I75 -> 46
A97: HDU11-SDS2.5 HoldDown | B97: =Takeoff!I76 -> 2
A98: HDU14-SDS2.5 HoldDown | B98: =Takeoff!I77 -> 2
A99: HH6 Header Hanger | B99: =Takeoff!I80 -> 144
A100: LCE4 Post Cap | B100: =Takeoff!I81 -> 72
A101: HUC212-3 Concealed Flange Hanger | B101: =Takeoff!I82 -> 2
A102: SDW 1/4"x4-5/8"Structural Screw | B102: =Takeoff!I83+Takeoff!I161+Takeoff!I200+Takeoff!I282 -> 24975
A103: SDW 1/4"x5" Structural Screw | B103: =Takeoff!I84+Takeoff!I162+Takeoff!I201+Takeoff!I283 -> 8995
A104: SSTB16 Anchor | B104: =Takeoff!I85 -> 1
...
