Workbook

Sheet Takeoff
A2: Plan dated 04.21.21
A3: Building Type | B3: 18 Plex | C3: 28 Plex | D3: Carriage | E3: Club
A4: Number of Buildings | B4: 2 | C4: 7 | D4: 6 | E4: 1
A7: 1st Wall Framing
A8: Material | B8: 18 Plex | C8: 28 Plex | D8: Carriage | E8: Club | G8: Notes | I8: Sum of rows
A9: 2x4-104-5/8 #2 Hem Fir | B9: 2062 | C9: 3461 | D9: 264 | I9: =SUMPRODUCT(B9:E9,$B$4:$E$4) -> 29935
A10: 2x6-104-5/8 #2 Hem Fir | B10: 1489 | C10: 1797 | D10: 268 | I10: =SUMPRODUCT(B10:E10,$B$4:$E$4) -> 17165
A11: 2x4-116-5/8 #2 Hem Fir | E11: 93 | I11: =SUMPRODUCT(B11:E11,$B$4:$E$4) -> 93
A12: 2x6-116-5/8 #2 Hem Fir | E12: 70 | I12: =SUMPRODUCT(B12:E12,$B$4:$E$4) -> 70
A13: 2x4-12 #2 Hem Fir | B13: 207 | C13: 335 | D13: 42 | I13: =SUMPRODUCT(B13:E13,$B$4:$E$4) -> 3011
A14: 2x4-14 #2 Hem Fir | B14: 207 | C14: 333 | D14: 42 | I14: =SUMPRODUCT(B14:E14,$B$4:$E$4) -> 2997
A15: 2x4-16 #2 Hem Fir | B15: 207 | C15: 310 | D15: 42 | I15: =SUMPRODUCT(B15:E15,$B$4:$E$4) -> 2836
A16: 2x6-12' #2 Hem Fir | B16: 148 | C16: 214 | D16: 30 | E16: 32 | I16: =SUMPRODUCT(B16:E16,$B$4:$E$4) -> 2006
A17: 2x6-14' #2 Hem Fir | B17: 172 | C17: 213 | D17: 30 | E17: 6 | I17: =SUMPRODUCT(B17:E17,$B$4:$E$4) -> 2021
A18: 2x6-16' #2 Hem Fir | B18: 181 | C18: 222 | D18: 36 | E18: 57 | I18: =SUMPRODUCT(B18:E18,$B$4:$E$4) -> 2189
A19: 2x6-20' #2 Hem Fir | B19: 195 | C19: 195 | I19: =SUMPRODUCT(B19:E19,$B$4:$E$4) -> 1755
A20: 2x8-8' #2 Hem Fir | I20: =SUMPRODUCT(B20:E20,$B$4:$E$4) -> 0
A21: 2x8-10' #2 Hem Fir | B21: 4 | E21: 5 | I21: =SUMPRODUCT(B21:E21,$B$4:$E$4) -> 13
A22: 2x8-12' #2 Hem Fir | C22: 12 | I22: =SUMPRODUCT(B22:E22,$B$4:$E$4) -> 84
A23: 2x8-14' #2 Hem Fir | B23: 9 | C23: 12 | E23: 6 | I23: =SUMPRODUCT(B23:E23,$B$4:$E$4) -> 108
A24: 2x8-16' #2 Hem Fir | B24: 6 | C24: 2 | D24: 3 | I24: =SUMPRODUCT(B24:E24,$B$4:$E$4) -> 44
A25: 2x10-8 #2 Hem Fir | I25: =SUMPRODUCT(B25:E25,$B$4:$E$4) -> 0
A26: 2x10-10 #2 Hem Fir | B26: 3 | I26: =SUMPRODUCT(B26:E26,$B$4:$E$4) -> 6
A27: 2x10-12 #2 Hem Fir | B27: 10 | C27: 12 | I27: =SUMPRODUCT(B27:E27,$B$4:$E$4) -> 104
A28: 2x10-14 #2 Hem Fir | B28: 10 | C28: 16 | I28: =SUMPRODUCT(B28:E28,$B$4:$E$4) -> 132
A29: 2x10-16 #2 Hem Fir | B29: 9 | C29: 11 | E29: 3 | I29: =SUMPRODUCT(B29:E29,$B$4:$E$4) -> 98
A30: 2x12-8 #2 Hem Fir | I30: =SUMPRODUCT(B30:E30,$B$4:$E$4) -> 0
A31: 2x12-10 #2 Hem Fir | D31: 18 | I31: =SUMPRODUCT(B31:E31,$B$4:$E$4) -> 108
A32: 2x12-12 #2 Hem Fir | B32: 6 | C32: 8 | I32: =SUMPRODUCT(B32:E32,$B$4:$E$4) -> 68
A33: 2x12-14 #2 Hem Fir | B33: 7 | C33: 8 | I33: =SUMPRODUCT(B33:E33,$B$4:$E$4) -> 70
A34: 2x12-16 #2 Hem Fir | B34: 6 | C34: 7 | E34: 3 | I34: =SUMPRODUCT(B34:E34,$B$4:$E$4) -> 64
A35: 6x6-10' #2 Hem Fir | I35: =SUMPRODUCT(B35:E35,$B$4:$E$4) -> 0
A36: 6x6-12' #2 Hem Fir | E36: 4 | I36: =SUMPRODUCT(B36:E36,$B$4:$E$4) -> 4
A37: 2x4-12 treated | B37: 29 | C37: 46 | D37: 9 | E37: 8 | I37: =SUMPRODUCT(B37:E37,$B$4:$E$4) -> 442
A38: 2x4-14 treated | B38: 31 | C38: 50 | D38: 10 | E38: 8 | I38: =SUMPRODUCT(B38:E38,$B$4:$E$4) -> 480
A39: 2x4-16 treated | B39: 25 | C39: 40 | D39: 8 | E39: 7 | I39: =SUMPRODUCT(B39:E39,$B$4:$E$4) -> 385
A40: 2x6-12 treated | B40: 30 | C40: 36 | D40: 18 | E40: 20 | I40: =SUMPRODUCT(B40:E40,$B$4:$E$4) -> 440
A41: 2x6-14 treated | B41: 32 | C41: 39 | D41: 20 | E41: 21 | I41: =SUMPRODUCT(B41:E41,$B$4:$E$4) -> 478
A42: 2x6-16 treated | B42: 26 | C42: 30 | D42: 16 | E42: 17 | I42: =SUMPRODUCT(B42:E42,$B$4:$E$4) -> 375
A43: 4x4-10 Treated | B43: 8 | C43: 8 | I43: =SUMPRODUCT(B43:E43,$B$4:$E$4) -> 72
...

Sheet Project Totals
A2: Plan dated 04.21.21
A5: Framing Materials
A6: Material | B6: Qty | D6: Notes
A7: 2x4-104-5/8 #2 Hem Fir | B7: =Takeoff!I9+Takeoff!I167+Takeoff!I250 -> 64540
A8: 2x6-104-5/8 #2 Hem Fir | B8: =Takeoff!I10+Takeoff!I168+Takeoff!I251 -> 41462
A9: 2x4-116-5/8 #2 Hem Fir | B9: =Takeoff!I11 -> 93
A10: 2x6-116-5/8 #2 Hem Fir | B10: =Takeoff!I12 -> 70
A11: 2x4-12 #2 Hem Fir | B11: =Takeoff!I11+Takeoff!I169+Takeoff!I252+Takeoff!I287+Takeoff!I205+Takeoff!I93+Takeoff!I13 -> 9683
A12: 2x4-14 #2 Hem Fir | B12: =Takeoff!I12+Takeoff!I170+Takeoff!I253+Takeoff!I288+Takeoff!I206+Takeoff!I94+Takeoff!I14 -> 10363 | D12: 2x4 #2 HF LF = | E12: =B11*12+B12*14+B13*16 -> 454398
A13: 2x4-16 #2 Hem Fir | B13: =Takeoff!I13+Takeoff!I171+Takeoff!I254+Takeoff!I289+Takeoff!I207+Takeoff!I95+Takeoff!I15 -> 12070
A14: 2x6-12' #2 Hem Fir | B14: =Takeoff!I14+Takeoff!I172+Takeoff!I255+Takeoff!I290+Takeoff!I208+Takeoff!I96+Takeoff!I16 -> 9350
A15: 2x6-14' #2 Hem Fir | B15: =Takeoff!I15+Takeoff!I173+Takeoff!I256+Takeoff!I291+Takeoff!I209+Takeoff!I97+Takeoff!I17 -> 9673 | D15: 2x6 #2 HF LF = | E15: =B14*12+B15*14+B16*16+B17*20 -> 433074
A16: 2x6-16' #2 Hem Fir | B16: =Takeoff!I16+Takeoff!I174+Takeoff!I257+Takeoff!I292+Takeoff!I210+Takeoff!I98+Takeoff!I18 -> 9397
A17: 2x6-20' #2 Hem Fir | B17: =Takeoff!I19 -> 1755
A18: 2x8-8' #2 Hem Fir | B18: =Takeoff!I175+Takeoff!I258+Takeoff!I293+Takeoff!I211+Takeoff!I99+Takeoff!I20 -> 0
A19: 2x8-10' #2 Hem Fir | B19: =Takeoff!I176+Takeoff!I259+Takeoff!I294+Takeoff!I212+Takeoff!I100+Takeoff!I21 -> 305 | D19: 2x8 #2 HF LF = | E19: =B20*12+B21*14+B19*10+B18*8+B22*16+B23*20 -> 26566
A20: 2x8-12' #2 Hem Fir | B20: =Takeoff!I177+Takeoff!I260+Takeoff!I295+Takeoff!I213+Takeoff!I101+Takeoff!I22 -> 559
A21: 2x8-14' #2 Hem Fir | B21: =Takeoff!I178+Takeoff!I261+Takeoff!I296+Takeoff!I214+Takeoff!I102+Takeoff!I23 -> 256
A22: 2x8-16' #2 Hem Fir | B22: =Takeoff!I179+Takeoff!I262+Takeoff!I297+Takeoff!I215+Takeoff!I103+Takeoff!I24 -> 214
A23: 2x8-20' #2 Hem Fir | B23: =Takeoff!I180 -> 490
A24: 2x10-8 #2 Hem Fir | B24: =Takeoff!I25+Takeoff!I105+Takeoff!I181+Takeoff!I216+Takeoff!I298+Takeoff!I263+Takeoff!I298 -> 0
A25: 2x10-10 #2 Hem Fir | B25: =Takeoff!I26+Takeoff!I106+Takeoff!I182+Takeoff!I217+Takeoff!I299+Takeoff!I264+Takeoff!I299 -> 36
A26: 2x10-12 #2 Hem Fir | B26: =Takeoff!I27+Takeoff!I107+Takeoff!I183+Takeoff!I218+Takeoff!I300+Takeoff!I265+Takeoff!I300 -> 521
A27: 2x10-14 #2 Hem Fir | B27: =Takeoff!I28+Takeoff!I108+Takeoff!I184+Takeoff!I219+Takeoff!I301+Takeoff!I266+Takeoff!I301 -> 544 | D27: 2x10 #2 HF LF = | E27: =B26*12+B27*14+B24*8+B25*10+B28*16 -> 19572
A28: 2x10-16 #2 Hem Fir | B28: =Takeoff!I29+Takeoff!I109+Takeoff!I185+Takeoff!I220+Takeoff!I302+Takeoff!I267+Takeoff!I302 -> 334
A29: 2x12-8 #2 Hem Fir | B29: =Takeoff!I30+Takeoff!I110+Takeoff!I186+Takeoff!I221+Takeoff!I303+Takeoff!I268+Takeoff!I303 -> 4
A30: 2x12-10 #2 Hem Fir | B30: =Takeoff!I31+Takeoff!I111+Takeoff!I187+Takeoff!I222+Takeoff!I304+Takeoff!I269+Takeoff!I304 -> 144
A31: 2x12-12 #2 Hem Fir | B31: =Takeoff!I32+Takeoff!I112+Takeoff!I188+Takeoff!I223+Takeoff!I305+Takeoff!I270+Takeoff!I305 -> 696
A32: 2x12-14 #2 Hem Fir | B32: =Takeoff!I33+Takeoff!I113+Takeoff!I189+Takeoff!I224+Takeoff!I306+Takeoff!I271+Takeoff!I306 -> 666 | D32: 2x12 #2HF LF = | E32: =B32*14+B33*16+B30*10+B31*12+B29*8 -> 30220
A33: 2x12-16 #2 Hem Fir | B33: =Takeoff!I34+Takeoff!I114+Takeoff!I190+Takeoff!I225+Takeoff!I307+Takeoff!I272+Takeoff!I307 -> 692
A34: 6x6-10' #2 Hem Fir | B34: =Takeoff!I35 -> 0
A35: 6x6-12' #2 Hem Fir | B35: =Takeoff!I36 -> 4
A36: 2x4-12 treated | B36: =Takeoff!I37 -> 442
A37: 2x4-14 treated | B37: =Takeoff!I38 -> 480
A38: 2x4-16 treated | B38: =Takeoff!I39 -> 385 | D38: 2x4 Treated LF = | E38: =B36*12+B37*14+B38*16 -> 18184
A39: 2x6-12 treated | B39: =Takeoff!I40 -> 440
A40: 2x6-14 treated | B40: =Takeoff!I41 -> 478 | D40: 2x6 Treated LF = | E40: =B39*12+14*B40+16*B41 -> 17972
A41: 2x6-16 treated | B41: =Takeoff!I42 -> 375
A42: 2x8-8' Treated | B42: =Takeoff!I128+Takeoff!I228 -> 0
A43: 2x8-10' Treated | B43: =Takeoff!I129+Takeoff!I229 -> 412 | D43: 2x8 Treated LF = | E43: =B42*8+B43*10+B44*12+B45*14+B46*16 -> 12188
...
