Workbook

Sheet Takeoff
D2: April 16, 2025
A5: Set of plans dated 03.25.2025
A8: Main Level Floor Framing
A9: Material | B9: Qty | D9: Notes
A10: 2x4-12 #2 Hem Fir
A11: 2x4-14 #2 Hem Fir
A12: 2x4-16 #2 Hem Fir
A13: 2x10-16 #2 Hem Fir | B13: 1
A14: 11-7/8" TJI 210 LF | B14: 72 | D14: blocking
A15: 11-7/8"x6' TJI 210 | B15: 13
A16: 11-7/8"x7' TJI 210 | B16: 4
A17: 11-7/8"x8' TJI 210 | B17: 1
A18: 11-7/8"x9' TJI 210 | B18: 2
A19: 11-7/8"x10' TJI 210 | B19: 1
A20: 11-7/8"x12' TJI 210 | B20: 3
A21: 11-7/8"x13' TJI 210 | B21: 6
A22: 11-7/8"x14' TJI 210 | B22: 3
A23: 11-7/8"x15' TJI 210 | B23: 1
A24: 11-7/8"x16' TJI 210 | B24: 1
A25: 11-7/8"x17' TJI 210 | B25: 6
A26: 11-7/8"x18' TJI 210 | B26: 10
... A51: STHD14 Hold Down | B51: 8
A53: Main Level Wall Framing
A54: Material | B54: Qty | D54: Notes
A55: 2x4-104 5/8" Hem Fir Stud | B55: 98
A56: 2x6-104 5/8" Hem Fir Stud | B56: 276
A57: 2x4-12 #2 Hem Fir | B57: 22
A58: 2x4-14 #2 Hem Fir | B58: 22
A59: 2x4-16 #2 Hem Fir | B59: 22
A60: 2x6-12' #2 Hem Fir | B60: 38
A61: 2x6-14' #2 Hem Fir | B61: 38
A62: 2x6-16' #2 Hem Fir | B62: 38
A63: 2x10-14 #2 Hem Fir | B63: 2
A64: 2x10-16 #2 Hem Fir | B64: 4
A65: 2x12-12' #2 Hem Fir
A66: 1-3/4x5-1/2"x20' LVL | B66: 34
A67: 1-3/4"x9-1/2"x7' LVL | B67: 2
A68: 1-3/4"x9-1/2"x9' LVL | B68: 6
A69: 1-3/4"x11-7/8"x22' LVL | B69: 3
A70: 2x6-12 Treated | B70: 2
A71: 2x6-16 Treated | B71: 2
A72: 4x10-7/16" OSB | B72: 76
A73: 5-1/2"x50' Sill Seal | B73: 2
A74: A35 Framing Angle | B74: 25
A76: 2nd Level Floor
A77: Material | B77: Qty | D77: Notes
A78: 2x6-16' #2 Hem Fir | B78: 5
A79: 2x8-12' #2 Hem Fir | B79: 4
A80: 2x8-16' #2 Hem Fir | B80: 1
A81: 2x12-16' #2 Hem Fir | B81: 3
A82: 11-7/8" TJI 210 LF | D82: blocking
A83: 11-7/8"x6' TJI 210
A84: 11-7/8"x7' TJI 210 | B84: 1
A85: 11-7/8"x8' TJI 210
A86: 11-7/8"x9' TJI 210 | B86: 2
A87: 11-7/8"x10' TJI 210
A88: 11-7/8"x11' TJI 210 | B88: 1
A89: 11-7/8"x12' TJI 210
A90: 11-7/8"x13' TJI 210 | B90: 1
A91: 11-7/8"x14' TJI 210
A92: 11-7/8"x15' TJI 210 | B92: 1
A93: 11-7/8"x17' TJI 210 | B93: 15
A94: 11-7/8"x19' TJI 210 | B94: 2
A95: 11-7/8"x20' TJI 210 | B95: 13
A96: 11-7/8"x22' TJI 210 | B96: 2
A97: 11-7/8"x23' TJI 210 | B97: 1
A98: 1-3/4"x14"x20' LSL | B98: 4 | D98: Stair Stringer
A99: 1-1/8"x11-7/8"x24' LSL Rim | B99: 4
A100: 11-7/8"x4' LVL | B100: 2
A101: 11-7/8"x8' LVL | B101: 2
A102: 4x8-7/16" OSB | B102: 2
A103: 4x8-3/4" T&G OSB | B103: 36
A104: Quart Floor Adhesive | B104: 12
A105: 12"x12' Stair Tread | B105: 6
A106: 1x8-12' #2 Pine | B106: 6 | D106: stair riser
A107: IUS2.06/11.88 Hanger
A108: ITS2.06/11.88 Hanger | B108: 22
A109: LSSR2.1 Skewable Hanger | B109: 8
A110: MIU3.56/11.88 Hanger | B110: 1
A113: 2nd Level Wall Framing
A114: Material | B114: Qty | D114: Notes
A115: 2x4-92 5/8" Hem Fir Stud | B115: 129
A116: 2x6-92 5/8" Hem Fir Stud | B116: 173
A117: 2x4-12 #2 Hem Fir | B117: 20
A118: 2x4-14 #2 Hem Fir | B118: 20
A119: 2x4-16 #2 Hem Fir | B119: 20
A120: 2x6-12' #2 Hem Fir | B120: 18
A121: 2x6-14' #2 Hem Fir | B121: 18
A122: 2x6-16' #2 Hem Fir | B122: 18
A123: 2x10-14 #2 Hem Fir | B123: 3
A124: 2x10-16 #2 Hem Fir | B124: 4
A125: 9-1/2"x10' LVL | B125: 4
A126: 4x8-7/16" OSB | B126: 37
A127: A35 Faming Angle | B127: 25
A129: Roof Framing
A130: Material | B130: Qty | D130: Notes
A131: 2x4-12 #2 Hem Fir | B131: 33
A132: 2x4-14 #2 Hem Fir | B132: 33
A133: 2x4-16 #2 Hem Fir | B133: 35
A134: 2x6-12' #2 Hem Fir | B134: 21
...

Sheet Project Totals
D2: April 16, 2025
A5: Set of plans dated 03.25.2025
A7: Framing Materials
A8: Material | B8: Qty | D8: Notes
A9: 2x4-92 5/8" Hem Fir Stud | B9: =Takeoff!B115 -> 129
A10: 2x6-92 5/8" Hem Fir Stud | B10: =Takeoff!B116 -> 173
A11: 2x4-104 5/8" Hem Fir Stud | B11: =Takeoff!B55 -> 98
A12: 2x6-104 5/8" Hem Fir Stud | B12: =Takeoff!B56 -> 276
A13: 2x4-12 #2 Hem Fir | B13: =Takeoff!B10+Takeoff!B57+Takeoff!B117+Takeoff!B131 -> 75
A14: 2x4-14 #2 Hem Fir | B14: =Takeoff!B11+Takeoff!B58+Takeoff!B118+Takeoff!B132 -> 75 | D14: 2x4 #2 HF LF = | E14: =B13*12+B14*14+B15*16 -> 3182
A15: 2x4-16 #2 Hem Fir | B15: =Takeoff!B12+Takeoff!B59+Takeoff!B119+Takeoff!B133 -> 77
A16: 2x6-12' #2 Hem Fir | B16: =Takeoff!B134+Takeoff!B120+Takeoff!B60 -> 77
A17: 2x6-14' #2 Hem Fir | B17: =Takeoff!B135+Takeoff!B121+Takeoff!B61 -> 77
A18: 2x6-16' #2 Hem Fir | B18: =Takeoff!B136+Takeoff!B122+Takeoff!B62+Takeoff!B78 -> 84 | D18: 2x6 #2 HF LF = | E18: =B16*12+B17*14+B18*16 -> 3346
A19: 2x8-8 #2 Hem Fir
A20: 2x8-10 #2 Hem Fir
A21: 2x8-12 #2 Hem Fir | B21: =Takeoff!B79+Takeoff!B137 -> 4
A22: 2x8-14 #2 Hem Fir | D22: 2x8 #2 Hem Fir LF = | E22: =B19*8+B20*10+B21*12+B22*14+B23*16 -> 96
A23: 2x8-16 #2 Hem Fir | B23: =Takeoff!B80+Takeoff!B138 -> 3
A24: 2x10-8 #2 Hem Fir
A25: 2x10-10 #2 Hem Fir
A26: 2x10-12 #2 Hem Fir
A27: 2x10-14 #2 Hem Fir | B27: =Takeoff!B63+Takeoff!B123 -> 5 | D27: 2x10 #2 Hem Fir LF = | E27: =B24*8+B25*10+B26*12+B27*14+B28*16 -> 278
A28: 2x10-16 #2 Hem Fir | B28: =Takeoff!B13+Takeoff!B64+Takeoff!B124+Takeoff!B140 -> 13
A29: 2x12-8 #2 Hem Fir
A30: 2x12-10 #2 Hem Fir
A31: 2x12-12' #2 Hem Fir | D31: 2x12 #2 Hem Fir LF = | E31: =B29*8+B30*10+B31*12+B32*14+B33*16 -> 48
A32: 2x12-14' #2 Hem Fir
A33: 2x12-16' #2 Hem Fir | B33: =Takeoff!B81 -> 3
A34: 4x4x12' #1 Doug Fir | B34: =Takeoff!B141 -> 1
A35: 4x6-8' #1 Doug Fir | B35: =Takeoff!B142 -> 1
A36: 6x6-8' #1 Doug Fir | B36: =Takeoff!B143 -> 9
A37: 8x12-14' #1 Doug Fir | B37: =Takeoff!B144 -> 2
A38: 8x12-18' #1 Doug Fir | B38: =Takeoff!B145 -> 1
A39: 8x12-20' #1 Doug Fir | B39: =Takeoff!B146 -> 1
A40: 8x12-22' #1 Doug Fir | B40: =Takeoff!B147 -> 2
A41: 8x14-10' #1 Doug Fir | B41: =Takeoff!B148 -> 1
A42: 12x12-10' #1 Doug Fir | B42: =Takeoff!B149 -> 5
A43: 11-7/8" TJI 210 LF | B43: =Takeoff!B14+Takeoff!B82 -> 72
A44: 11-7/8"x6' TJI 210 | B44: =Takeoff!B15+Takeoff!B83 -> 13
A45: 11-7/8"x7' TJI 210 | B45: =Takeoff!B16+Takeoff!B84 -> 5
A46: 11-7/8"x8' TJI 210 | B46: =Takeoff!B17+Takeoff!B85 -> 1
A47: 11-7/8"x9' TJI 210 | B47: =Takeoff!B18+Takeoff!B86 -> 4
A48: 11-7/8"x10' TJI 210 | B48: =Takeoff!B19+Takeoff!B87 -> 1
A49: 11-7/8"x11' TJI 210 | B49: =Takeoff!B88 -> 1
A50: 11-7/8"x12' TJI 210 | B50: =Takeoff!B20 -> 3 | D50: 11-7/8" TJI 210 LF = | E50: =B43+B44*6+B45*7+B46*8+B47*9+B48*10+B49*11+B50*12+B51*13+B52*14+B53*15+B54*16+B55*17+B56*18+B57*19+B58*20+B59*22+B60*23+B61*35 -> 1891
A51: 11-7/8"x13' TJI 210 | B51: =Takeoff!B21+Takeoff!B90 -> 7
A52: 11-7/8"x14' TJI 210 | B52: =Takeoff!B22+Takeoff!B91 -> 3
A53: 11-7/8"x15' TJI 210 | B53: =Takeoff!B23+Takeoff!B92 -> 2
A54: 11-7/8"x16' TJI 210 | B54: =Takeoff!B24 -> 1
A55: 11-7/8"x17' TJI 210 | B55: =Takeoff!B25+Takeoff!B93 -> 21
A56: 11-7/8"x18' TJI 210 | B56: =Takeoff!B26 -> 10
A57: 11-7/8"x19' TJI 210 | B57: =Takeoff!B27+Takeoff!B94 -> 3
A58: 11-7/8"x20' TJI 210 | B58: =Takeoff!B28+Takeoff!B95 -> 19
A59: 11-7/8"x22' TJI 210 | B59: =Takeoff!B96 -> 2
A60: 11-7/8"x23' TJI 210 | B60: =Takeoff!B97 -> 1
A61: 11-7/8"x35' TJI 210 | B61: =Takeoff!B29 -> 11
A62: 1-1/8"x11-7/8"x24' LSL Rim | B62: =Takeoff!B30+Takeoff!B99 -> 5 | D62: 11-7/8" LSL LF = | E62: =B62*24 -> 120
A63: 1-3/4x5-1/2"x20' LVL | B63: =Takeoff!B66 -> 34 | D63: 5-1/2" LVL LF = | E63: =B63*20 -> 680
A64: 1-3/4"x9-1/2"x7' LVL | B64: =Takeoff!B67 -> 2
A65: 1-3/4"x9-1/2"x9' LVL | B65: =Takeoff!B68 -> 6 | D65: 9-1/2" LVL LF = | E65: =B64*7+B65*9+B66*10 -> 108
A66: 1-3/4"x9-1/2"x10' LVL | B66: =Takeoff!B125 -> 4
A67: 1-3/4"x11-7/8"x4' LVL | B67: =Takeoff!B100 -> 2
A68: 1-3/4"x11-7/8"x6' LVL | B68: =Takeoff!B31 -> 4 | D68: 11-7/8" LVL LF = | E68: =B55*4+B56*8+B57*11+B58*13+B61*17+B62*19+B68*23+B69*29 -> 905
A69: 1-3/4"x11-7/8"x7' LVL | B69: =Takeoff!B32 -> 3
A70: 1-3/4"x11-7/8"x8' LVL | B70: =Takeoff!B101 -> 2
A71: 1-3/4"x11-7/8"x15' LVL | B71: =Takeoff!B33 -> 4
A72: 1-3/4"x11-7/8"x17' LVL | B72: =Takeoff!B34 -> 4
A73: 1-3/4"x11-7/8"x22' LVL | B73: =Takeoff!B69 -> 3
A74: 1-3/4"x14"x20' LSL | B74: =Takeoff!B98 -> 4
A75: 2x6-12 Treated | B75: =Takeoff!B70 -> 2
A76: 2x6-14 Treated | D76: 2x6 Treated LF = | E76: =B75*12+14*B76+16*B77 -> 56
A77: 2x6-16 Treated | B77: =Takeoff!B71 -> 2 | D77: Quantity of all 16' = | E77: =ROUNDUP(E76/16,0) -> 4
A78: 2x10-12 Treated | B78: =Takeoff!B35 -> 5
A79: 2x10-14 Treated | B79: =Takeoff!B36 -> 5 | D79: 2x10 Treated LF = | E79: =B78*12+B79*14+B80*16 -> 210
A80: 2x10-16 Treated | B80: =Takeoff!B37 -> 5 | D80: Quantity of all 16' = | E80: =ROUNDUP(E79/16,0) -> 14
A81: 4x8-7/16" OSB | B81: =Takeoff!B102+Takeoff!B126+Takeoff!B150 -> 53
A82: 4x10-7/16" OSB | B82: =Takeoff!B72 -> 76
A83: 4x8-15/32" OSB | B83: =Takeoff!B151 -> 108
A84: 4x8-9/16" OSB | B84: =Takeoff!B152 -> 29
A85: 4x8-3/4" T&G OSB | B85: =Takeoff!B38+Takeoff!B103 -> 93
A86: Quart Floor Adhesive | B86: =Takeoff!B39+Takeoff!B104 -> 30
A87: 5-1/2"x50' Sill Seal | B87: =Takeoff!B73 -> 2
A88: 9-1/4"x50' Sill Seal | B88: =Takeoff!B40 -> 4
A90: Simpson and Hardware
A91: Material | B91: Qty | D91: Notes
A92: LUS210 Hanger | B92: =Takeoff!B41 -> 4
A93: LB210 Hanger | B93: =Takeoff!B42 -> 4
A94: IUS2.06/11.88 Hanger | B94: =Takeoff!B43+Takeoff!B107 -> 37
A95: ITS2.06/11.88 Hanger | B95: =Takeoff!B44+Takeoff!B108 -> 92
A96: MIU4.28/11 Hanger | B96: =Takeoff!B45 -> 3
A97: BA3.56/11.88 Hanger | B97: =Takeoff!B46 -> 6
A98: BA4.12/11.88 Hanger | B98: =Takeoff!B47 -> 1
A99: HU412 Hanger | B99: =Takeoff!B48 -> 2
A100: LSSR2.1 Skewable Hanger | B100: =Takeoff!B49+Takeoff!B109 -> 16
A101: LSU4.12 Skewable Hanger | B101: =Takeoff!B50 -> 2
A102: STHD14 Hold Down | B102: =Takeoff!B51 -> 8
A103: A35 Framing Angle | B103: =Takeoff!B74+Takeoff!B127 -> 50
A104: MIU3.56/11.88 Hanger | B104: =Takeoff!B110 -> 1
A105: PSCL 15/32 Plywood Clips - 250/box | B105: =Takeoff!B153 -> 2
...
