Workbook

Sheet Takeoff
D2: April 16, 2025
A5: Set of plans dated 03.25.2025
A8: Main Level Floor Framing
A9: Material | B9: Qty | D9: Notes
A10: 2x4-12 #2 Hem Fir
A11: 2x4-14 #2 Hem Fir
A12: 2x4-16 #2 Hem Fir
A13: 2x10-16 #2 Hem Fir | B13: 1
A14: 11-7/8" TJI 210 LF | B14: 72 | D14: blocking
A15: 11-7/8"x6' TJI 210 | B15: 13
A16: 11-7/8"x7' TJI 210 | B16: 4
A17: 11-7/8"x8' TJI 210 | B17: 1
A18: 11-7/8"x9' TJI 210 | B18: 2
A19: 11-7/8"x10' TJI 210 | B19: 1
A20: 11-7/8"x12' TJI 210 | B20: 3
A21: 11-7/8"x13' TJI 210 | B21: 6
A22: 11-7/8"x14' TJI 210 | B22: 3
A23: 11-7/8"x15' TJI 210 | B23: 1
A24: 11-7/8"x16' TJI 210 | B24: 1
A25: 11-7/8"x17' TJI 210 | B25: 6
A26: 11-7/8"x18' TJI 210 | B26: 10
... A51: STHD14 Hold Down | B51: 8
A53: Main Level Wall Framing
A54: Material | B54: Qty | D54: Notes
A55: 2x4-104 5/8" Hem Fir Stud | B55: 98
A56: 2x6-104 5/8" Hem Fir Stud | B56: 276
A57: 2x4-12 #2 Hem Fir | B57: 22
A58: 2x4-14 #2 Hem Fir | B58: 22
A59: 2x4-16 #2 Hem Fir | B59: 22
A60: 2x6-12' #2 Hem Fir | B60: 38
A61: 2x6-14' #2 Hem Fir | B61: 38
A62: 2x6-16' #2 Hem Fir | B62: 38
A63: 2x10-14 #2 Hem Fir | B63: 2
A64: 2x10-16 #2 Hem Fir | B64: 4
A65: 2x12-12' #2 Hem Fir
A66: 1-3/4x5-1/2"x20' LVL | B66: 34
A67: 1-3/4"x9-1/2"x7' LVL | B67: 2
A68: 1-3/4"x9-1/2"x9' LVL | B68: 6
A69: 1-3/4"x11-7/8"x22' LVL | B69: 3
A70: 2x6-12 Treated | B70: 2
...

Sheet Project Totals
D2: April 16, 2025
A5: Set of plans dated 03.25.2025
A7: Framing Materials
A8: Material | B8: Qty | D8: Notes
A9: 2x4-92 5/8" Hem Fir Stud | B9: =Takeoff!B115 -> 129
A10: 2x6-92 5/8" Hem Fir Stud | B10: =Takeoff!B116 -> 173
A11: 2x4-104 5/8" Hem Fir Stud | B11: =Takeoff!B55 -> 98
A12: 2x6-104 5/8" Hem Fir Stud | B12: =Takeoff!B56 -> 276
A13: 2x4-12 #2 Hem Fir | B13: =Takeoff!B10+Takeoff!B57+Takeoff!B117+Takeoff!B131 -> 75
A14: 2x4-14 #2 Hem Fir | B14: =Takeoff!B11+Takeoff!B58+Takeoff!B118+Takeoff!B132 -> 75 | D14: 2x4 #2 HF LF = | E14: =B13*12+B14*14+B15*16 -> 3182
A15: 2x4-16 #2 Hem Fir | B15: =Takeoff!B12+Takeoff!B59+Takeoff!B119+Takeoff!B133 -> 77
A16: 2x6-12' #2 Hem Fir | B16: =Takeoff!B134+Takeoff!B120+Takeoff!B60 -> 77
A17: 2x6-14' #2 Hem Fir | B17: =Takeoff!B135+Takeoff!B121+Takeoff!B61 -> 77
A18: 2x6-16' #2 Hem Fir | B18: =Takeoff!B136+Takeoff!B122+Takeoff!B62+Takeoff!B78 -> 84 | D18: 2x6 #2 HF LF = | E18: =B16*12+B17*14+B18*16 -> 3346
A19: 2x8-8 #2 Hem Fir
A20: 2x8-10 #2 Hem Fir
A21: 2x8-12 #2 Hem Fir | B21: =Takeoff!B79+Takeoff!B137 -> 4
A22: 2x8-14 #2 Hem Fir | D22: 2x8 #2 Hem Fir LF = | E22: =B19*8+B20*10+B21*12+B22*14+B23*16 -> 96
A23: 2x8-16 #2 Hem Fir | B23: =Takeoff!B80+Takeoff!B138 -> 3
A24: 2x10-8 #2 Hem Fir
A25: 2x10-10 #2 Hem Fir
A26: 2x10-12 #2 Hem Fir
A27: 2x10-14 #2 Hem Fir | B27: =Takeoff!B63+Takeoff!B123 -> 5 | D27: 2x10 #2 Hem Fir LF = | E27: =B24*8+B25*10+B26*12+B27*14+B28*16 -> 278
A28: 2x10-16 #2 Hem Fir | B28: =Takeoff!B13+Takeoff!B64+Takeoff!B124+Takeoff!B140 -> 13
A29: 2x12-8 #2 Hem Fir
A30: 2x12-10 #2 Hem Fir
A31: 2x12-12' #2 Hem Fir | D31: 2x12 #2 Hem Fir LF = | E31: =B29*8+B30*10+B31*12+B32*14+B33*16 -> 48
A32: 2x12-14' #2 Hem Fir
A33: 2x12-16' #2 Hem Fir | B33: =Takeoff!B81 -> 3
A34: 4x4x12' #1 Doug Fir | B34: =Takeoff!B141 -> 1
A35: 4x6-8' #1 Doug Fir | B35: =Takeoff!B142 -> 1
A36: 6x6-8' #1 Doug Fir | B36: =Takeoff!B143 -> 9
A37: 8x12-14' #1 Doug Fir | B37: =Takeoff!B144 -> 2
A38: 8x12-18' #1 Doug Fir | B38: =Takeoff!B145 -> 1
A39: 8x12-20' #1 Doug Fir | B39: =Takeoff!B146 -> 1
A40: 8x12-22' #1 Doug Fir | B40: =Takeoff!B147 -> 2
A41: 8x14-10' #1 Doug Fir | B41: =Takeoff!B148 -> 1
A42: 12x12-10' #1 Doug Fir | B42: =Takeoff!B149 -> 5
A43: 11-7/8" TJI 210 LF | B43: =Takeoff!B14+Takeoff!B82 -> 72
A44: 11-7/8"x6' TJI 210 | B44: =Takeoff!B15+Takeoff!B83 -> 13
...
