Workbook

Sheet Takeoff
D1: September 2, 2022
A5: 100% DD Plan dated 07.20.2022
A6: Building Area | B6: =83906+83906+83844+75134 -> 326790
A7: Balcony Area | B7: =3921+3971+3575 -> 11467
A8: Total Gross Area | B8: =SUM(B6:B7) -> 338257
A10: 1st Wall Framing
A11: Material | B11: Qty | D11: Notes
A12: 2x4-104-5/8 #2 Hem Fir Stud | B12: 16841
A13: 2x6-104-5/8 #2 Hem Fir Stud | B13: 17942
A14: 2x4-116-5/8 #2 Hem Fir Stud
A15: 2x6-116-5/8 #2 Hem Fir Stud | B15: 1104
A16: 2x4-12 #2 Hem Fir | B16: 1697
A17: 2x4-14 #2 Hem Fir | B17: 1720
A18: 2x4-16 #2 Hem Fir | B18: 1635
A19: 2x6-12' #2 Hem Fir | B19: 937
A20: 2x6-14' #2 Hem Fir | B20: 761
A21: 2x6-16' #2 Hem Fir | B21: 871
A22: 2x8-8' #2 Hem Fir
A23: 2x8-10' #2 Hem Fir | B23: 18
A24: 2x8-12' #2 Hem Fir | B24: 74
A25: 2x8-14' #2 Hem Fir | B25: 185
A26: 2x8-16' #2 Hem Fir | B26: 210
A27: 2x10-8 #2 Hem Fir
A28: 2x10-10 #2 Hem Fir
A29: 2x10-12 #2 Hem Fir | B29: 103
A30: 2x10-14 #2 Hem Fir | B30: 108
A31: 2x10-16 #2 Hem Fir | B31: 93
A32: 2x12-8 #2 Hem Fir
A33: 2x12-10 #2 Hem Fir
A34: 2x12-12 #2 Hem Fir | B34: 11
A35: 2x12-14 #2 Hem Fir | B35: 11
A36: 2x12-16 #2 Hem Fir | B36: 10
A37: 1-3/4"x5-1/2"x22' LSL | B37: 58
A38: 1-3/4"x7-1/4"x22' LSL | B38: 145
A39: 2x4-12 Treated | B39: 240
A40: 2x4-14 Treated | B40: 257
A41: 2x4-16 Treated | B41: 215
A42: 2x6-12 Treated | B42: 147
A43: 2x6-14 Treated | B43: 154
A44: 2x6-16 Treated | B44: 130
A45: 2x8-12 Treated | B45: 2
A46: 2x8-14 Treated
A47: 2x8-16 Treated | B47: 2
A48: 6x6-12 Treated | B48: 11
A49: 4x9-7/16" OSB | B49: 1190
A50: 4x9-5/8" Gyp | B50: 174
A51: 4x8-7/16 Flameblock OSB | B51: 15
A52: 5-1/2"x50' Sill Seal | B52: 79
A53: 7-1/4"x50' Sill Seal | B53: 2
A54: 1"x24"x12' Shaft Guard | B54: 335
A55: 2-1/2" Aluminum Burn Clip | B55: 1000
A56: 2-1/16"x12' Unhemmed H Stud 3/4" Leg | B56: 165
A57: 2-1/8"x10' C-Track 1" Leg | B57: 75
A58: ABU66 Post Base | B58: 11
... A60: SDW 1/4"x4-5/8"Structural Screw | B60: 5000
A61: SDW 1/4"x5" Structural Screw
A62: 1-3/4" Plate Washer | B62: 3750
A64: 2nd Level Floor Framing
A65: Material | B65: Qty | D65: Notes
A66: 2x4-12 #2 Hem Fir | B66: 621
A67: 2x4-14 #2 Hem Fir | B67: 660
A68: 2x4-16 #2 Hem Fir | B68: 546
A69: 2x6-12' #2 Hem Fir | B69: 250
A70: 2x6-14' #2 Hem Fir | B70: 266
A71: 2x6-16' #2 Hem Fir | B71: 225
A72: 2x8-8' #2 Hem Fir
A73: 2x8-10' #2 Hem Fir
A74: 2x8-12' #2 Hem Fir | B74: 3
A75: 2x8-14' #2 Hem Fir | B75: 3
A76: 2x8-16' #2 Hem Fir | B76: 4
A77: 2x10-8 #2 Hem Fir
A78: 2x10-10 #2 Hem Fir | B78: =26+157+34 -> 217
A79: 2x10-12 #2 Hem Fir | B79: 609
A80: 2x10-14 #2 Hem Fir | B80: =14+93+11 -> 118
A81: 2x10-16 #2 Hem Fir | B81: 50
A82: 2x12-8 #2 Hem Fir
A83: 2x12-10 #2 Hem Fir
A84: 2x12-12 #2 Hem Fir
A85: 2x12-14 #2 Hem Fir
A86: 2x12-16 #2 Hem Fir | B86: 20
A87: 9-1/2"x9' LVL | B87: 10
A88: 9-1/2"x10' LVL | B88: 6
A89: 9-1/2"x12' LVL | B89: 15
A90: 9-1/2"x14' LVL | B90: 8
A91: 11-7/8"x11' LVL | B91: 3
A92: 11-7/8"x16' LVL | B92: 3
A93: 18"x24' LVL | B93: 140
A94: 2x10-10 Treated | B94: 171
A95: 2x10-12 Treated | B95: =92+335+24 -> 451
A96: 2x10-14 Treated
A97: 2x10-16 Treated
A98: 4x8-7/16" OSB | B98: 534
A99: 4x8-3/4" OSB T&G | B99: 2910
A100: Quart Tube Floor Adhesive | B100: 924
A101: LUS28 Hanger | B101: 2672
A102: LUS210-2 Hanger | B102: =48+28+18+38+46+32+8+12+14+14 -> 258
A103: JB210 Hanger | B103: 36
A104: HUS410 Hanger | B104: 1
A105: HGUS7.25/10 Hanger | B105: 1
A106: ACE6 Post Cap | B106: 11
...

Sheet Project Totals
D1: September 2, 2022
A5: 100% DD Plan dated 07.20.2022
A8: Framing Materials
A9: Material | B9: Qty | D9: Notes
A10: 2x4-104-5/8 #2 Hem Fir Stud | B10: =Takeoff!B12+Takeoff!B115+Takeoff!B203+Takeoff!B292 -> 50404
A11: 2x6-104-5/8 #2 Hem Fir Stud | B11: =Takeoff!B13+Takeoff!B116+Takeoff!B204+Takeoff!B293 -> 57419
A12: 2x4-116-5/8 #2 Hem Fir Stud | B12: =Takeoff!B14+Takeoff!B117+Takeoff!B205+Takeoff!B294 -> 0
A13: 2x6-116-5/8 #2 Hem Fir Stud | B13: =Takeoff!B15+Takeoff!B118+Takeoff!B206+Takeoff!B295 -> 2205
A14: 2x4-12 #2 Hem Fir | B14: =Takeoff!B16+Takeoff!B119+Takeoff!B207+Takeoff!B296+Takeoff!B331+Takeoff!B241+Takeoff!B153+Takeoff!B66 -> 7908
A15: 2x4-14 #2 Hem Fir | B15: =Takeoff!B17+Takeoff!B120+Takeoff!B208+Takeoff!B297+Takeoff!B332+Takeoff!B242+Takeoff!B154+Takeoff!B67 -> 8327 | D15: 2x4 #2 HF LF = | E15: =B16*12+B17*14+B18*16 -> 288584
A16: 2x4-16 #2 Hem Fir | B16: =Takeoff!B18+Takeoff!B121+Takeoff!B209+Takeoff!B298+Takeoff!B333+Takeoff!B243+Takeoff!B155+Takeoff!B68 -> 7639
A17: 2x6-12' #2 Hem Fir | B17: =Takeoff!B19+Takeoff!B122+Takeoff!B210+Takeoff!B299+Takeoff!B334+Takeoff!B244+Takeoff!B156+Takeoff!B69 -> 7198
A18: 2x6-14' #2 Hem Fir | B18: =Takeoff!B20+Takeoff!B123+Takeoff!B211+Takeoff!B300+Takeoff!B335+Takeoff!B245+Takeoff!B157+Takeoff!B70 -> 6009 | D18: 2x6 #2 HF LF = | E18: =B17*12+B18*14+B19*16 -> 276214
A19: 2x6-16' #2 Hem Fir | B19: =Takeoff!B21+Takeoff!B124+Takeoff!B212+Takeoff!B301+Takeoff!B336+Takeoff!B246+Takeoff!B158+Takeoff!B71 -> 6607
A20: 2x8-8' #2 Hem Fir | B20: =Takeoff!B22+Takeoff!B125+Takeoff!B213+Takeoff!B302+Takeoff!B337+Takeoff!B247+Takeoff!B159+Takeoff!B72 -> 0
A21: 2x8-10' #2 Hem Fir | B21: =Takeoff!B23+Takeoff!B126+Takeoff!B214+Takeoff!B303+Takeoff!B338+Takeoff!B248+Takeoff!B160+Takeoff!B73 -> 18
A22: 2x8-12' #2 Hem Fir | B22: =Takeoff!B24+Takeoff!B127+Takeoff!B215+Takeoff!B304+Takeoff!B339+Takeoff!B249+Takeoff!B161+Takeoff!B74 -> 199
A23: 2x8-14' #2 Hem Fir | B23: =Takeoff!B25+Takeoff!B128+Takeoff!B216+Takeoff!B305+Takeoff!B340+Takeoff!B250+Takeoff!B162+Takeoff!B75 -> 687 | D23: 2x8 #2 HF LF = | E23: =B20*8+B21*10+B22*12+B23*14+B24*16 -> 23802
A24: 2x8-16' #2 Hem Fir | B24: =Takeoff!B26+Takeoff!B129+Takeoff!B217+Takeoff!B306+Takeoff!B341+Takeoff!B251+Takeoff!B163+Takeoff!B76 -> 726
A25: 2x10-8 #2 Hem Fir | B25: =Takeoff!B27+Takeoff!B130+Takeoff!B218+Takeoff!B307+Takeoff!B342+Takeoff!B252+Takeoff!B164+Takeoff!B77 -> 0
A26: 2x10-10 #2 Hem Fir | B26: =Takeoff!B28+Takeoff!B131+Takeoff!B219+Takeoff!B308+Takeoff!B343+Takeoff!B253+Takeoff!B165+Takeoff!B78 -> 847
A27: 2x10-12 #2 Hem Fir | B27: =Takeoff!B29+Takeoff!B132+Takeoff!B220+Takeoff!B309+Takeoff!B344+Takeoff!B254+Takeoff!B166+Takeoff!B79 -> 3138
A28: 2x10-14 #2 Hem Fir | B28: =Takeoff!B30+Takeoff!B133+Takeoff!B221+Takeoff!B310+Takeoff!B345+Takeoff!B255+Takeoff!B167+Takeoff!B80 -> 899 | D28: 2x10 #2 HF LF = | E28: =B25*8+B26*10+B27*12+B28*14+B29*16+#REF!*18 -> #REF!
A29: 2x10-16 #2 Hem Fir | B29: =Takeoff!B31+Takeoff!B134+Takeoff!B222+Takeoff!B311+Takeoff!B346+Takeoff!B256+Takeoff!B168+Takeoff!B81 -> 817
A30: 2x12-8 #2 Hem Fir | B30: =Takeoff!B32+Takeoff!B135+Takeoff!B223+Takeoff!B312+Takeoff!B347+Takeoff!B257+Takeoff!B169+Takeoff!B82 -> 0
A31: 2x12-10 #2 Hem Fir | B31: =Takeoff!B33+Takeoff!B136+Takeoff!B224+Takeoff!B313+Takeoff!B348+Takeoff!B258+Takeoff!B170+Takeoff!B83 -> 0
A32: 2x12-12 #2 Hem Fir | B32: =Takeoff!B34+Takeoff!B137+Takeoff!B225+Takeoff!B314+Takeoff!B349+Takeoff!B259+Takeoff!B171+Takeoff!B84 -> 153
A33: 2x12-14 #2 Hem Fir | B33: =Takeoff!B35+Takeoff!B138+Takeoff!B226+Takeoff!B315+Takeoff!B350+Takeoff!B260+Takeoff!B172+Takeoff!B85 -> 155 | D33: 2x12 #2 HF LF = | E33: =B30*8+B31*10+B32*12+B33*14+B34*16 -> 6710
A34: 2x12-16 #2 Hem Fir | B34: =Takeoff!B36+Takeoff!B139+Takeoff!B227+Takeoff!B316+Takeoff!B351+Takeoff!B261+Takeoff!B173+Takeoff!B86 -> 169
A35: 6x6-10' #1 Doug Fir
A36: 2x4-12 Treated | B36: =Takeoff!B39 -> 240
A37: 2x4-14 Treated | B37: =Takeoff!B40 -> 257 | D37: 2x4 Treated LF = | E37: =B36*12+B37*14+B38*16 -> 9918
A38: 2x4-16 Treated | B38: =Takeoff!B41 -> 215
A39: 2x6-12 Treated | B39: =Takeoff!B42 -> 147
A40: 2x6-14 Treated | B40: =Takeoff!B43 -> 154 | D40: 2x6 Treated LF = | E40: =B39*12+B40*14+B41*16 -> 6000
A41: 2x6-16 Treated | B41: =Takeoff!B44 -> 130
A42: 2x8-12 Treated | B42: =Takeoff!B45+Takeoff!B354 -> 22 | D42: 2x8 Treated LF = | E42: =B42*12+B43*14+B44*16 -> 648
A43: 2x8-14 Treated | B43: =Takeoff!B46+Takeoff!B355 -> 0
A44: 2x8-16 Treated | B44: =Takeoff!B47+Takeoff!B356 -> 24
A45: 2x10-10 Treated | B45: =Takeoff!B94+Takeoff!B181+Takeoff!B269 -> 548
A46: 2x10-12 Treated | B46: =Takeoff!B95+Takeoff!B182+Takeoff!B270 -> 1450 | D46: 2x10 Treated LF = | E46: =B46*12+B47*14+B48*16+B45*10 -> 22976
A47: 2x10-14 Treated | B47: =Takeoff!B96+Takeoff!B183+Takeoff!B271 -> 0
A48: 2x10-16 Treated | B48: =Takeoff!B97+Takeoff!B184+Takeoff!B272 -> 6
A49: 6x6-10 Treated | B49: =Takeoff!B357 -> 11
A50: 6x6-12 Treated | B50: =Takeoff!B48+Takeoff!B185+Takeoff!B273 -> 33
A51: 1-3/4"x5-1/2"x22' LSL | B51: =Takeoff!B37 -> 58
A52: 1-3/4"x7-1/4"x22' LSL | B52: =Takeoff!B38 -> 145
A53: 9-1/2"x9' LVL | B53: =Takeoff!B87+Takeoff!B174+Takeoff!B262 -> 36
A54: 9-1/2"x10' LVL | B54: =Takeoff!B88+Takeoff!B175+Takeoff!B263 -> 36 | D54: 9-1/2" LVL LF = | E54: =B53*9+B54*10+B55*12+B56*14 -> 2456
A55: 9-1/2"x12' LVL | B55: =Takeoff!B89+Takeoff!B176+Takeoff!B264+Takeoff!B353 -> 129
A56: 9-1/2"x14' LVL | B56: =Takeoff!B90+Takeoff!B177+Takeoff!B265 -> 16
A57: 11-7/8"x11' LVL | B57: =Takeoff!B91+Takeoff!B178+Takeoff!B266 -> 3 | D57: 11-7/8" LVL LF = | E57: =B57*11+B58*16 -> 177
A58: 11-7/8"x16' LVL | B58: =Takeoff!B92+Takeoff!B179+Takeoff!B267 -> 9
A59: 18"x24' LVL | B59: =Takeoff!B93+Takeoff!B180+Takeoff!B268 -> 422 | D59: 18" LVL LF = | E59: =B59*24 -> 10128
A60: 4x8-15/32 Fire Treated | B60: =Takeoff!B361 -> 80
A61: 4x8-19/32 Fire Treated | B61: =Takeoff!B362 -> 49
A62: 4x8-7/16 Flameblock OSB | B62: =Takeoff!B319+Takeoff!B230+Takeoff!B142+Takeoff!B51 -> 60
A63: 4x8-7/16" OSB | B63: =Takeoff!B358+Takeoff!B274+Takeoff!B186+Takeoff!B98 -> 2330
A64: 4x9-7/16" OSB | B64: =Takeoff!B317+Takeoff!B228+Takeoff!B140+Takeoff!B49 -> 4990
A65: 4x8-15/32" OSB | B65: =Takeoff!B359 -> 2018
A66: 4x8-19/32 OSB | B66: =Takeoff!B360 -> 1494
A67: 4x8-5/8 Gyp | B67: =Takeoff!B318+Takeoff!B229+Takeoff!B141+Takeoff!B50+Takeoff!B363 -> 1348
A68: 4x9-5/8" Gyp | B68: =Takeoff!B318+Takeoff!B229+Takeoff!B141+Takeoff!B50 -> 689
A69: 4x8-3/4" OSB T&G | B69: =Takeoff!B275+Takeoff!B187+Takeoff!B99 -> 8436
A70: Quart Tube Floor Adhesive | B70: =Takeoff!B276+Takeoff!B188+Takeoff!B100 -> 2676
A71: 5-1/2"x50' Sill Seal | B71: =Takeoff!B52 -> 79
A72: 7-1/4"x50' Sill Seal | B72: =Takeoff!B364+Takeoff!B53 -> 9
A73: 1"x24"x12' Shaft Guard | B73: =Takeoff!B320+Takeoff!B231+Takeoff!B143+Takeoff!B54 -> 1505
A74: 2-1/2" Aluminum Burn Clip | B74: =Takeoff!B321+Takeoff!B232+Takeoff!B144+Takeoff!B55 -> 4600
A75: 2-1/16"x12' Unhemmed H Stud 3/4" Leg | B75: =Takeoff!B322+Takeoff!B233+Takeoff!B145+Takeoff!B56 -> 744
A76: 2-1/8"x10' C-Track 1" Leg | B76: =Takeoff!B323+Takeoff!B234+Takeoff!B146+Takeoff!B57 -> 333
A80: Simpson and Hardware
A81: Material | B81: Qty | D81: Notes
A82: ABU66 Post Base | B82: =Takeoff!B58 -> 11
A83: CS16 Coil Stock 150' | B83: =Takeoff!B59+Takeoff!B147+Takeoff!B235+Takeoff!B324 -> 20
A84: SDW 1/4"x4-5/8"Structural Screw | B84: =Takeoff!B60+Takeoff!B108+Takeoff!B148+Takeoff!B196+Takeoff!B236+Takeoff!B284+Takeoff!B326+Takeoff!B371 -> 24491
A85: SDW 1/4"x5" Structural Screw | B85: =Takeoff!B61+Takeoff!B109+Takeoff!B149+Takeoff!B197+Takeoff!B237+Takeoff!B285+Takeoff!B327+Takeoff!B372 -> 1373
A86: SDW 1/4"x6-3/4" Structural Screw | B86: =Takeoff!B110+Takeoff!B198+Takeoff!B286 -> 112
A87: 1-3/4" Plate Washer | B87: =Takeoff!B62 -> 3750
A88: LUS28 Hanger | B88: =Takeoff!B101+Takeoff!B189+Takeoff!B277 -> 8204
A89: LUS210-2 Hanger | B89: =Takeoff!B102+Takeoff!B190+Takeoff!B278 -> 754
A90: JB210 Hanger | B90: =Takeoff!B103 -> 36
A91: HUS410 Hanger | B91: =Takeoff!B104+Takeoff!B191+Takeoff!B279 -> 3
A92: HGUS7.25/10 Hanger | B92: =Takeoff!B105+Takeoff!B192+Takeoff!B280 -> 3
A93: ACE6 Post Cap | B93: =Takeoff!B106+Takeoff!B193+Takeoff!B281+Takeoff!B369 -> 44
A94: BC60 Half Base | B94: =Takeoff!B194+Takeoff!B282+Takeoff!B370 -> 33
A95: 1/4" x 4-1/2" SDS Screw | B95: =Takeoff!B107+Takeoff!B195+Takeoff!B283 -> 6300
A96: 1-1/2"x8' Deck Flashing | B96: =Takeoff!B111+Takeoff!B199 -> 621
A97: PSCL 15/32 Plywood Clips - 250/box | B97: =Takeoff!B365 -> 24
A98: PSCL 19/32 Plywood Clips - 250/box | B98: =Takeoff!B366 -> 15
A99: H2.5 Hurricane Clip | B99: =Takeoff!B367 -> 4000
A100: A35 Framing Angle | B100: =Takeoff!B368 -> 3000
A102: Exterior Finish | B102: Qty | D102: Notes
A103: 10x125 Tyvek Commercial | B103: =Takeoff!B376 -> 157
A104: 3"x65 yd Commercial Tyvek Tape | B104: =Takeoff!B377 -> 314
A105: 9"x75' Flex Tape | B105: =Takeoff!B378 -> 110
A106: 12"x75' Flex Tape | B106: =Takeoff!B379 -> 76
A107: 4"x75' Flashing Tape | B107: =Takeoff!B380 -> 278
A108: 6"x75' Flashing Tape | B108: =Takeoff!B381 -> 352
A109: 12"x75' Flashing Tape | B109: =Takeoff!B382 -> 37
...
