Workbook

Sheet Takeoff
D1: September 2, 2022
A5: 100% DD Plan dated 07.20.2022
A6: Building Area | B6: =83906+83906+83844+75134 -> 326790
A7: Balcony Area | B7: =3921+3971+3575 -> 11467
A8: Total Gross Area | B8: =SUM(B6:B7) -> 338257
A10: 1st Wall Framing
A11: Material | B11: Qty | D11: Notes
A12: 2x4-104-5/8 #2 Hem Fir Stud | B12: 16841
A13: 2x6-104-5/8 #2 Hem Fir Stud | B13: 17942
A14: 2x4-116-5/8 #2 Hem Fir Stud
A15: 2x6-116-5/8 #2 Hem Fir Stud | B15: 1104
A16: 2x4-12 #2 Hem Fir | B16: 1697
A17: 2x4-14 #2 Hem Fir | B17: 1720
A18: 2x4-16 #2 Hem Fir | B18: 1635
A19: 2x6-12' #2 Hem Fir | B19: 937
A20: 2x6-14' #2 Hem Fir | B20: 761
A21: 2x6-16' #2 Hem Fir | B21: 871
A22: 2x8-8' #2 Hem Fir
A23: 2x8-10' #2 Hem Fir | B23: 18
A24: 2x8-12' #2 Hem Fir | B24: 74
A25: 2x8-14' #2 Hem Fir | B25: 185
A26: 2x8-16' #2 Hem Fir | B26: 210
A27: 2x10-8 #2 Hem Fir
A28: 2x10-10 #2 Hem Fir
A29: 2x10-12 #2 Hem Fir | B29: 103
A30: 2x10-14 #2 Hem Fir | B30: 108
A31: 2x10-16 #2 Hem Fir | B31: 93
A32: 2x12-8 #2 Hem Fir
A33: 2x12-10 #2 Hem Fir
A34: 2x12-12 #2 Hem Fir | B34: 11
A35: 2x12-14 #2 Hem Fir | B35: 11
A36: 2x12-16 #2 Hem Fir | B36: 10
A37: 1-3/4"x5-1/2"x22' LSL | B37: 58
A38: 1-3/4"x7-1/4"x22' LSL | B38: 145
A39: 2x4-12 Treated | B39: 240
A40: 2x4-14 Treated | B40: 257
A41: 2x4-16 Treated | B41: 215
A42: 2x6-12 Treated | B42: 147
A43: 2x6-14 Treated | B43: 154
A44: 2x6-16 Treated | B44: 130
...

Sheet Project Totals
D1: September 2, 2022
A5: 100% DD Plan dated 07.20.2022
A8: Framing Materials
A9: Material | B9: Qty | D9: Notes
A10: 2x4-104-5/8 #2 Hem Fir Stud | B10: =Takeoff!B12+Takeoff!B115+Takeoff!B203+Takeoff!B292 -> 50404
A11: 2x6-104-5/8 #2 Hem Fir Stud | B11: =Takeoff!B13+Takeoff!B116+Takeoff!B204+Takeoff!B293 -> 57419
A12: 2x4-116-5/8 #2 Hem Fir Stud | B12: =Takeoff!B14+Takeoff!B117+Takeoff!B205+Takeoff!B294 -> 0
A13: 2x6-116-5/8 #2 Hem Fir Stud | B13: =Takeoff!B15+Takeoff!B118+Takeoff!B206+Takeoff!B295 -> 2205
A14: 2x4-12 #2 Hem Fir | B14: =Takeoff!B16+Takeoff!B119+Takeoff!B207+Takeoff!B296+Takeoff!B331+Takeoff!B241+Takeoff!B153+Takeoff!B66 -> 7908
A15: 2x4-14 #2 Hem Fir | B15: =Takeoff!B17+Takeoff!B120+Takeoff!B208+Takeoff!B297+Takeoff!B332+Takeoff!B242+Takeoff!B154+Takeoff!B67 -> 8327 | D15: 2x4 #2 HF LF = | E15: =B16*12+B17*14+B18*16 -> 288584
A16: 2x4-16 #2 Hem Fir | B16: =Takeoff!B18+Takeoff!B121+Takeoff!B209+Takeoff!B298+Takeoff!B333+Takeoff!B243+Takeoff!B155+Takeoff!B68 -> 7639
A17: 2x6-12' #2 Hem Fir | B17: =Takeoff!B19+Takeoff!B122+Takeoff!B210+Takeoff!B299+Takeoff!B334+Takeoff!B244+Takeoff!B156+Takeoff!B69 -> 7198
A18: 2x6-14' #2 Hem Fir | B18: =Takeoff!B20+Takeoff!B123+Takeoff!B211+Takeoff!B300+Takeoff!B335+Takeoff!B245+Takeoff!B157+Takeoff!B70 -> 6009 | D18: 2x6 #2 HF LF = | E18: =B17*12+B18*14+B19*16 -> 276214
A19: 2x6-16' #2 Hem Fir | B19: =Takeoff!B21+Takeoff!B124+Takeoff!B212+Takeoff!B301+Takeoff!B336+Takeoff!B246+Takeoff!B158+Takeoff!B71 -> 6607
A20: 2x8-8' #2 Hem Fir | B20: =Takeoff!B22+Takeoff!B125+Takeoff!B213+Takeoff!B302+Takeoff!B337+Takeoff!B247+Takeoff!B159+Takeoff!B72 -> 0
A21: 2x8-10' #2 Hem Fir | B21: =Takeoff!B23+Takeoff!B126+Takeoff!B214+Takeoff!B303+Takeoff!B338+Takeoff!B248+Takeoff!B160+Takeoff!B73 -> 18
A22: 2x8-12' #2 Hem Fir | B22: =Takeoff!B24+Takeoff!B127+Takeoff!B215+Takeoff!B304+Takeoff!B339+Takeoff!B249+Takeoff!B161+Takeoff!B74 -> 199
A23: 2x8-14' #2 Hem Fir | B23: =Takeoff!B25+Takeoff!B128+Takeoff!B216+Takeoff!B305+Takeoff!B340+Takeoff!B250+Takeoff!B162+Takeoff!B75 -> 687 | D23: 2x8 #2 HF LF = | E23: =B20*8+B21*10+B22*12+B23*14+B24*16 -> 23802
A24: 2x8-16' #2 Hem Fir | B24: =Takeoff!B26+Takeoff!B129+Takeoff!B217+Takeoff!B306+Takeoff!B341+Takeoff!B251+Takeoff!B163+Takeoff!B76 -> 726
A25: 2x10-8 #2 Hem Fir | B25: =Takeoff!B27+Takeoff!B130+Takeoff!B218+Takeoff!B307+Takeoff!B342+Takeoff!B252+Takeoff!B164+Takeoff!B77 -> 0
A26: 2x10-10 #2 Hem Fir | B26: =Takeoff!B28+Takeoff!B131+Takeoff!B219+Takeoff!B308+Takeoff!B343+Takeoff!B253+Takeoff!B165+Takeoff!B78 -> 847
A27: 2x10-12 #2 Hem Fir | B27: =Takeoff!B29+Takeoff!B132+Takeoff!B220+Takeoff!B309+Takeoff!B344+Takeoff!B254+Takeoff!B166+Takeoff!B79 -> 3138
A28: 2x10-14 #2 Hem Fir | B28: =Takeoff!B30+Takeoff!B133+Takeoff!B221+Takeoff!B310+Takeoff!B345+Takeoff!B255+Takeoff!B167+Takeoff!B80 -> 899 | D28: 2x10 #2 HF LF = | E28: =B25*8+B26*10+B27*12+B28*14+B29*16+#REF!*18 -> #REF!
A29: 2x10-16 #2 Hem Fir | B29: =Takeoff!B31+Takeoff!B134+Takeoff!B222+Takeoff!B311+Takeoff!B346+Takeoff!B256+Takeoff!B168+Takeoff!B81 -> 817
A30: 2x12-8 #2 Hem Fir | B30: =Takeoff!B32+Takeoff!B135+Takeoff!B223+Takeoff!B312+Takeoff!B347+Takeoff!B257+Takeoff!B169+Takeoff!B82 -> 0
A31: 2x12-10 #2 Hem Fir | B31: =Takeoff!B33+Takeoff!B136+Takeoff!B224+Takeoff!B313+Takeoff!B348+Takeoff!B258+Takeoff!B170+Takeoff!B83 -> 0
A32: 2x12-12 #2 Hem Fir | B32: =Takeoff!B34+Takeoff!B137+Takeoff!B225+Takeoff!B314+Takeoff!B349+Takeoff!B259+Takeoff!B171+Takeoff!B84 -> 153
A33: 2x12-14 #2 Hem Fir | B33: =Takeoff!B35+Takeoff!B138+Takeoff!B226+Takeoff!B315+Takeoff!B350+Takeoff!B260+Takeoff!B172+Takeoff!B85 -> 155 | D33: 2x12 #2 HF LF = | E33: =B30*8+B31*10+B32*12+B33*14+B34*16 -> 6710
A34: 2x12-16 #2 Hem Fir | B34: =Takeoff!B36+Takeoff!B139+Takeoff!B227+Takeoff!B316+Takeoff!B351+Takeoff!B261+Takeoff!B173+Takeoff!B86 -> 169
A35: 6x6-10' #1 Doug Fir
A36: 2x4-12 Treated | B36: =Takeoff!B39 -> 240
A37: 2x4-14 Treated | B37: =Takeoff!B40 -> 257 | D37: 2x4 Treated LF = | E37: =B36*12+B37*14+B38*16 -> 9918
A38: 2x4-16 Treated | B38: =Takeoff!B41 -> 215
A39: 2x6-12 Treated | B39: =Takeoff!B42 -> 147
A40: 2x6-14 Treated | B40: =Takeoff!B43 -> 154 | D40: 2x6 Treated LF = | E40: =B39*12+B40*14+B41*16 -> 6000
A41: 2x6-16 Treated | B41: =Takeoff!B44 -> 130
A42: 2x8-12 Treated | B42: =Takeoff!B45+Takeoff!B354 -> 22 | D42: 2x8 Treated LF = | E42: =B42*12+B43*14+B44*16 -> 648
A43: 2x8-14 Treated | B43: =Takeoff!B46+Takeoff!B355 -> 0
A44: 2x8-16 Treated | B44: =Takeoff!B47+Takeoff!B356 -> 24
A45: 2x10-10 Treated | B45: =Takeoff!B94+Takeoff!B181+Takeoff!B269 -> 548
...
