Workbook

Sheet Takeoff
D1: October 28, 2025
A5: Plan dated 10.10.2025
F7: 1
F8: 1
A9: 1st Level Wall Framing | F9: 1
A10: Material | B10: Qty | D10: Notes | F10: 1
A11: 2x4-116-3/4 #2 Doug Fir Stud | B11: 4247 | F11: 1
A12: 2x6-116-3/4 #2 Doug Fir Stud | B12: 4329 | F12: 1
A13: 2x8-116-3/4 #2 Doug Fir Stud | B13: 83 | F13: 1
A14: 2x6-134-3/4 #2 Doug Fir Stud | B14: 1072 | F14: 1
A15: 2x4-12 #2 Doug Fir | B15: 378 | F15: 1
A16: 2x4-14 #2 Doug Fir | B16: 413 | F16: 1
A17: 2x4-16 #2 Doug Fir | B17: 378 | F17: 1
A18: 2x6-12' #2 Doug Fir | B18: 253 | F18: 1
A19: 2x6-14' #2 Doug Fir | B19: 289 | F19: 1
A20: 2x6-16' #2 Doug Fir | B20: 253 | F20: 1
A21: 2x8-10' #2 Doug Fir | F21: 1
A22: 2x8-12' #2 Doug Fir | B22: 11 | F22: 1
A23: 2x8-14' #2 Doug Fir | B23: 11 | F23: 1
A24: 2x8-16' #2 Doug Fir | B24: 27 | F24: 1
A25: 2x10-10 #2 Doug Fir | F25: 1
A26: 2x10-12 #2 Doug Fir | B26: 10 | F26: 1
A27: 2x10-14 #2 Doug Fir | B27: 10 | F27: 1
A28: 2x10-16 #2 Doug Fir | B28: 9 | F28: 1
A29: 2x12-10 #2 Doug Fir | F29: 1
A30: 2x12-12 #2 Doug Fir | B30: 7 | F30: 1
A31: 2x12-14 #2 Doug Fir | B31: 7 | F31: 1
A32: 2x12-16 #2 Doug Fir | B32: 5 | F32: 1
A33: 4x8-10 #2 Doug Fir | B33: 4 | F33: 1
A34: 6x6-10 #1 Doug Fir | B34: 8 | F34: 1
A35: 3-1/2"x5-1/2"x10' Parallam | B35: 4 | F35: 1
A36: 3-1/2"x14"x9' Parallam | B36: 1 | F36: 1
A37: 7"x7"x10' Parallam | B37: 4 | F37: 1
A38: 2x6-116-1/2 Fire Treated | B38: 52 | F38: 1
A39: 2x6-134-1/2 Fire Treated | B39: 1628 | F39: 1
A40: 2x8-134-1/2 Fire Treated | B40: 135 | F40: 1
A41: 2x4-10 Fire Treated | F41: 1
A42: 2x4-12 Fire Treated | B42: 108 | F42: 1
A43: 2x4-14 Fire Treated | B43: 25 | F43: 1
A44: 2x4-16 Fire Treated | B44: 25 | F44: 1
A45: 2x6-10' Fire Treated | F45: 1
A46: 2x6-12' Fire Treated | B46: 110 | F46: 1
A47: 2x6-14' Fire Treated | B47: 280 | F47: 1
A48: 2x6-16' Fire Treated | B48: 123 | F48: 1
A49: 2x8-10 Fire Treated | F49: 1
A50: 2x8-12 Fire Treated | B50: 20 | F50: 1
A51: 2x8-14 Fire Treated | B51: 46 | F51: 1
A52: 2x8-16 Fire Treated | B52: 20 | F52: 1
A53: 2x10-10 Fire Treated | F53: 1
A54: 2x10-12 Fire Treated | F54: 1
A55: 2x10-14 Fire Treated | B55: 6 | F55: 1
A56: 2x10-16 Fire Treated | B56: 2 | F56: 1
A57: 2x12-10 Fire Treated | F57: 1
A58: 2x12-12 Fire Treated | B58: 1 | F58: 1
A59: 2x12-14 Fire Treated | B59: 3 | F59: 1
A60: 2x12-16 Fire Treated | F60: 1
A61: 2x4-12 treated | B61: 50 | F61: 1
A62: 2x4-14 treated | B62: 51 | F62: 1
A63: 2x4-16 treated | B63: 44 | F63: 1
A64: 2x6-12 treated | B64: 49 | F64: 1
A65: 2x6-14 treated | B65: 50 | F65: 1
A66: 2x6-16 treated | B66: 44 | F66: 1
A67: 2x8-12 treated | B67: 2 | F67: 1
A68: 2x8-14 treated | B68: 2 | F68: 1
A69: 2x8-16 treated | B69: 2 | F69: 1
A70: 4x8-7/16 OSB | B70: 214 | F70: 1
A71: 4x8-15/32 Fire Treated | B71: 441 | F71: 1
A72: 4x8-5/8" Type X Gyp | B72: 52 | F72: 1
... A74: 2-1/2" Aluminum Burn Clip | B74: 1300 | F74: 1
A75: Burn Clip Screw | B75: =6500 -> 6500 | F75: 1
A76: 2-1/16"x12' Unhemmed H Stud 3/4" Leg | B76: 217 | F76: 1
A77: 2-1/8"x10' C-Track 1" Leg | B77: 212 | F77: 1
A78: 3-1/2"x50' Sill Seal | F78: 1
A79: 5-1/2"x50' Sill Seal | B79: 13 | F79: 1
A80: 7-1/4"x50' Sill Seal | B80: 2 | F80: 1
A81: A34 Framing Angle | B81: 100 | F81: 1
A82: CS14 Coil Strap 100' | F82: 1
A83: CS16 Coil Strap 150' | F83: 1
A84: CS18 Coil Strap 200' | B84: 1 | F84: 1
A85: CS20 Coil Strap 250' | B85: 7 | F85: 1
A86: CS22 Coil Strap 300' | F86: 1
A87: CMST12 Coil Strap 40' | F87: 1
A88: CMST14 Coil Strap 52.5' | F88: 1
A89: CMSTC16 Coil Strap 54' | F89: 1
A90: LTP5 Hold Down | B90: 32 | F90: 1
A91: 5/8" J Anchor Bolts 12" | B91: 1025 | F91: 1
A92: 1/4"x3"x3" Plate Washer | B92: 1025 | F92: 1
A93: Hemmed Sheathing Starter Flashing - 10' | B93: 88 | F93: 1
F94: 1
A95: 2nd Level Floor Framing | F95: 1
A96: Material | B96: Qty | D96: Notes | F96: 1
A97: 2x4-12 #2 Doug Fir | B97: 224 | F97: 1
A98: 2x4-14 #2 Doug Fir | B98: 236 | F98: 1
A99: 2x4-16 #2 Doug Fir | B99: 198 | F99: 1
A100: 2x6-12' #2 Doug Fir | B100: 154 | F100: 1
A101: 2x6-14' #2 Doug Fir | B101: 158 | F101: 1
A102: 2x6-16' #2 Doug Fir | B102: 143 | F102: 1
A103: 2x8-10' #2 Doug Fir | F103: 1
A104: 2x8-12' #2 Doug Fir | B104: 16 | F104: 1
A105: 2x8-14' #2 Doug Fir | B105: 2 | F105: 1
...

Sheet Project Totals
D1: October 28, 2025
A5: Plan dated 10.10.2025
A7: Framing Materials
A8: Material | B8: Qty | D8: Notes
A9: 2x4-104-1/2 #2 Doug Fir Stud | B9: =SUMIFS(Takeoff!$B$11:$B$1443,Takeoff!$A$11:$A$1443,A9,Takeoff!$F$11:F$1443,1) -> 42291
A10: 2x6-104-1/2 #2 Doug Fir Stud | B10: =SUMIFS(Takeoff!$B$11:$B$1443,Takeoff!$A$11:$A$1443,A10,Takeoff!$F$11:F$1443,1) -> 25184
A11: 2x4-116-3/4 #2 Doug Fir Stud | B11: =SUMIFS(Takeoff!$B$11:$B$1443,Takeoff!$A$11:$A$1443,A11,Takeoff!$F$11:F$1443,1) -> 4247
A12: 2x6-116-3/4 #2 Doug Fir Stud | B12: =SUMIFS(Takeoff!$B$11:$B$1443,Takeoff!$A$11:$A$1443,A12,Takeoff!$F$11:F$1443,1) -> 4329
A13: 2x8-116-3/4 #2 Doug Fir Stud | B13: =SUMIFS(Takeoff!$B$11:$B$1443,Takeoff!$A$11:$A$1443,A13,Takeoff!$F$11:F$1443,1) -> 83
A14: 2x6-122-1/2 #2 Doug Fir Stud | B14: =SUMIFS(Takeoff!$B$11:$B$1443,Takeoff!$A$11:$A$1443,A14,Takeoff!$F$11:F$1443,1) -> 3295
A15: 2x6-134-3/4 #2 Doug Fir Stud | B15: =SUMIFS(Takeoff!$B$11:$B$1443,Takeoff!$A$11:$A$1443,A15,Takeoff!$F$11:F$1443,1) -> 1072
A16: 2x4-12 #2 Doug Fir | B16: =SUMIFS(Takeoff!$B$11:$B$1443,Takeoff!$A$11:$A$1443,A16,Takeoff!$F$11:F$1443,1) -> 12224
A17: 2x4-14 #2 Doug Fir | B17: =SUMIFS(Takeoff!$B$11:$B$1443,Takeoff!$A$11:$A$1443,A17,Takeoff!$F$11:F$1443,1) -> 12458 | D17: 2x4 #2 DF LF = | E17: =B16*12+B17*14+B18*16 -> 485244
A18: 2x4-16 #2 Doug Fir | B18: =SUMIFS(Takeoff!$B$11:$B$1443,Takeoff!$A$11:$A$1443,A18,Takeoff!$F$11:F$1443,1) -> 10259
A19: 2x6-12' #2 Doug Fir | B19: =SUMIFS(Takeoff!$B$11:$B$1443,Takeoff!$A$11:$A$1443,A19,Takeoff!$F$11:F$1443,1) -> 8719
A20: 2x6-14' #2 Doug Fir | B20: =SUMIFS(Takeoff!$B$11:$B$1443,Takeoff!$A$11:$A$1443,A20,Takeoff!$F$11:F$1443,1) -> 7568 | D20: 2x6 #2 DF LF = | E20: =B19*12+B20*14+B21*16+B22*18 -> 344148
A21: 2x6-16' #2 Doug Fir | B21: =SUMIFS(Takeoff!$B$11:$B$1443,Takeoff!$A$11:$A$1443,A21,Takeoff!$F$11:F$1443,1) -> 8348
A22: 2x6-18' #2 Doug Fir | B22: =SUMIFS(Takeoff!$B$11:$B$1443,Takeoff!$A$11:$A$1443,A22,Takeoff!$F$11:F$1443,1) -> 0
A23: 2x8-10' #2 Doug Fir | B23: =SUMIFS(Takeoff!$B$11:$B$1443,Takeoff!$A$11:$A$1443,A23,Takeoff!$F$11:F$1443,1) -> 578 | D23: 2x8 #2 DF LF = | E23: =B24*12+B25*14+B23*10+B26*16 -> 25916
A24: 2x8-12' #2 Doug Fir | B24: =SUMIFS(Takeoff!$B$11:$B$1443,Takeoff!$A$11:$A$1443,A24,Takeoff!$F$11:F$1443,1) -> 471
A25: 2x8-14' #2 Doug Fir | B25: =SUMIFS(Takeoff!$B$11:$B$1443,Takeoff!$A$11:$A$1443,A25,Takeoff!$F$11:F$1443,1) -> 214
A26: 2x8-16' #2 Doug Fir | B26: =SUMIFS(Takeoff!$B$11:$B$1443,Takeoff!$A$11:$A$1443,A26,Takeoff!$F$11:F$1443,1) -> 718
A27: 2x10-10 #2 Doug Fir | B27: =SUMIFS(Takeoff!$B$11:$B$1443,Takeoff!$A$11:$A$1443,A27,Takeoff!$F$11:F$1443,1) -> 14
A28: 2x10-12 #2 Doug Fir | B28: =SUMIFS(Takeoff!$B$11:$B$1443,Takeoff!$A$11:$A$1443,A28,Takeoff!$F$11:F$1443,1) -> 1113
A29: 2x10-14 #2 Doug Fir | B29: =SUMIFS(Takeoff!$B$11:$B$1443,Takeoff!$A$11:$A$1443,A29,Takeoff!$F$11:F$1443,1) -> 446 | D29: 2x10 #2 DF LF = | E29: =B28*12+B29*14+B27*10+B30*16 -> 25756
A30: 2x10-16 #2 Doug Fir | B30: =SUMIFS(Takeoff!$B$11:$B$1443,Takeoff!$A$11:$A$1443,A30,Takeoff!$F$11:F$1443,1) -> 376
A31: 2x12-10 #2 Doug Fir | B31: =SUMIFS(Takeoff!$B$11:$B$1443,Takeoff!$A$11:$A$1443,A31,Takeoff!$F$11:F$1443,1) -> 36
A32: 2x12-12 #2 Doug Fir | B32: =SUMIFS(Takeoff!$B$11:$B$1443,Takeoff!$A$11:$A$1443,A32,Takeoff!$F$11:F$1443,1) -> 536
A33: 2x12-14 #2 Doug Fir | B33: =SUMIFS(Takeoff!$B$11:$B$1443,Takeoff!$A$11:$A$1443,A33,Takeoff!$F$11:F$1443,1) -> 324 | D33: 2x12 #2 DF LF = | E33: =B33*14+B34*16+B31*10+B32*12 -> 22544
A34: 2x12-16 #2 Doug Fir | B34: =SUMIFS(Takeoff!$B$11:$B$1443,Takeoff!$A$11:$A$1443,A34,Takeoff!$F$11:F$1443,1) -> 701
A35: 4x8-10 #2 Doug Fir | B35: =SUMIFS(Takeoff!$B$11:$B$1443,Takeoff!$A$11:$A$1443,A35,Takeoff!$F$11:F$1443,1) -> 60
A36: 6x6-10 #1 Doug Fir | B36: =SUMIFS(Takeoff!$B$11:$B$1443,Takeoff!$A$11:$A$1443,A36,Takeoff!$F$11:F$1443,1) -> 120
A37: 3-1/2"x5-1/2"x10' Parallam | B37: =SUMIFS(Takeoff!$B$11:$B$1443,Takeoff!$A$11:$A$1443,A37,Takeoff!$F$11:F$1443,1) -> 54 | D37: 3-1/2x5-1/2 PSL LF = | E37: =B37*10+B38*16 -> 700
A38: 3-1/2"x5-1/2"x16' Parallam | B38: =SUMIFS(Takeoff!$B$11:$B$1443,Takeoff!$A$11:$A$1443,A38,Takeoff!$F$11:F$1443,1) -> 10
A39: 3-1/2"x9-1/4"x7' Parallam | B39: =SUMIFS(Takeoff!$B$11:$B$1443,Takeoff!$A$11:$A$1443,A39,Takeoff!$F$11:F$1443,1) -> 3
A40: 3-1/2"x9-1/4"x8' Parallam | B40: =SUMIFS(Takeoff!$B$11:$B$1443,Takeoff!$A$11:$A$1443,A40,Takeoff!$F$11:F$1443,1) -> 5
A41: 3-1/2"x9-1/4"x11' Parallam | B41: =SUMIFS(Takeoff!$B$11:$B$1443,Takeoff!$A$11:$A$1443,A41,Takeoff!$F$11:F$1443,1) -> 1 | D41: 3-1/2x9-1/4 PSL LF = | E41: =B39*7+B40*8+B41*11+B42*12+B43*16 -> 100
A42: 3-1/2"x9-1/4"x12' Parallam | B42: =SUMIFS(Takeoff!$B$11:$B$1443,Takeoff!$A$11:$A$1443,A42,Takeoff!$F$11:F$1443,1) -> 1
A43: 3-1/2"x9-1/4"x16' Parallam | B43: =SUMIFS(Takeoff!$B$11:$B$1443,Takeoff!$A$11:$A$1443,A43,Takeoff!$F$11:F$1443,1) -> 1
A44: 3-1/2"x11-1/4"x6' Parallam | B44: =SUMIFS(Takeoff!$B$11:$B$1443,Takeoff!$A$11:$A$1443,A44,Takeoff!$F$11:F$1443,1) -> 7
A45: 3-1/2"x11-1/4"x8' Parallam | B45: =SUMIFS(Takeoff!$B$11:$B$1443,Takeoff!$A$11:$A$1443,A45,Takeoff!$F$11:F$1443,1) -> 7
A46: 3-1/2"x11-1/4"x9' Parallam | B46: =SUMIFS(Takeoff!$B$11:$B$1443,Takeoff!$A$11:$A$1443,A46,Takeoff!$F$11:F$1443,1) -> 3 | D46: 3-1/2x11-1/4 PSL LF = | E46: =B44*6+B45*8+B46*9+B47*10+B48*11+B49*12+B50*13+B51*14+B52*15+B53*16+B54*17+B56*19+B55*18+B57*21 -> 1751
A47: 3-1/2"x11-1/4"x10' Parallam | B47: =SUMIFS(Takeoff!$B$11:$B$1443,Takeoff!$A$11:$A$1443,A47,Takeoff!$F$11:F$1443,1) -> 10
A48: 3-1/2"x11-1/4"x11' Parallam | B48: =SUMIFS(Takeoff!$B$11:$B$1443,Takeoff!$A$11:$A$1443,A48,Takeoff!$F$11:F$1443,1) -> 43
A49: 3-1/2"x11-1/4"x12' Parallam | B49: =SUMIFS(Takeoff!$B$11:$B$1443,Takeoff!$A$11:$A$1443,A49,Takeoff!$F$11:F$1443,1) -> 10
A50: 3-1/2"x11-1/4"x13' Parallam | B50: =SUMIFS(Takeoff!$B$11:$B$1443,Takeoff!$A$11:$A$1443,A50,Takeoff!$F$11:F$1443,1) -> 8
A51: 3-1/2"x11-1/4"x14' Parallam | B51: =SUMIFS(Takeoff!$B$11:$B$1443,Takeoff!$A$11:$A$1443,A51,Takeoff!$F$11:F$1443,1) -> 27
A52: 3-1/2"x11-1/4"x15' Parallam | B52: =SUMIFS(Takeoff!$B$11:$B$1443,Takeoff!$A$11:$A$1443,A52,Takeoff!$F$11:F$1443,1) -> 3
A53: 3-1/2"x11-1/4"x16' Parallam | B53: =SUMIFS(Takeoff!$B$11:$B$1443,Takeoff!$A$11:$A$1443,A53,Takeoff!$F$11:F$1443,1) -> 9
A54: 3-1/2"x11-1/4"x17' Parallam | B54: =SUMIFS(Takeoff!$B$11:$B$1443,Takeoff!$A$11:$A$1443,A54,Takeoff!$F$11:F$1443,1) -> 12
A55: 3-1/2"x11-1/4"x18' Parallam | B55: =SUMIFS(Takeoff!$B$11:$B$1443,Takeoff!$A$11:$A$1443,A55,Takeoff!$F$11:F$1443,1) -> 1
A56: 3-1/2"x11-1/4"x19' Parallam | B56: =SUMIFS(Takeoff!$B$11:$B$1443,Takeoff!$A$11:$A$1443,A56,Takeoff!$F$11:F$1443,1) -> 1
A57: 3-1/2"x11-1/4"x21' Parallam | B57: =SUMIFS(Takeoff!$B$11:$B$1443,Takeoff!$A$11:$A$1443,A57,Takeoff!$F$11:F$1443,1) -> 1
A58: 3-1/2"x14"x8' Parallam | B58: =SUMIFS(Takeoff!$B$11:$B$1443,Takeoff!$A$11:$A$1443,A58,Takeoff!$F$11:F$1443,1) -> 1
A59: 3-1/2"x14"x9' Parallam | B59: =SUMIFS(Takeoff!$B$11:$B$1443,Takeoff!$A$11:$A$1443,A59,Takeoff!$F$11:F$1443,1) -> 6
A60: 3-1/2"x14"x14' Parallam | B60: =SUMIFS(Takeoff!$B$11:$B$1443,Takeoff!$A$11:$A$1443,A60,Takeoff!$F$11:F$1443,1) -> 1 | D60: 3-1/2x14 PSL LF = | E60: =B58*8+B59*9+B60*14+B61*19+B62*20+B63*21+B64*22 -> 219
A61: 3-1/2"x14"x19' Parallam | B61: =SUMIFS(Takeoff!$B$11:$B$1443,Takeoff!$A$11:$A$1443,A61,Takeoff!$F$11:F$1443,1) -> 2
A62: 3-1/2"x14"x20' Parallam | B62: =SUMIFS(Takeoff!$B$11:$B$1443,Takeoff!$A$11:$A$1443,A62,Takeoff!$F$11:F$1443,1) -> 1
A63: 3-1/2"x14"x21' Parallam | B63: =SUMIFS(Takeoff!$B$11:$B$1443,Takeoff!$A$11:$A$1443,A63,Takeoff!$F$11:F$1443,1) -> 3
A64: 3-1/2"x14"x22' Parallam | B64: =SUMIFS(Takeoff!$B$11:$B$1443,Takeoff!$A$11:$A$1443,A64,Takeoff!$F$11:F$1443,1) -> 1
A65: 3-1/2"x16"x11' Parallam | B65: =SUMIFS(Takeoff!$B$11:$B$1443,Takeoff!$A$11:$A$1443,A65,Takeoff!$F$11:F$1443,1) -> 2 | D65: 3-1/2x16 PSL LF = | E65: =B65*11 -> 22
A66: 3-1/2"x18"x5' Parallam | B66: =SUMIFS(Takeoff!$B$11:$B$1443,Takeoff!$A$11:$A$1443,A66,Takeoff!$F$11:F$1443,1) -> 1
A67: 3-1/2"x18"x8' Parallam | B67: =SUMIFS(Takeoff!$B$11:$B$1443,Takeoff!$A$11:$A$1443,A67,Takeoff!$F$11:F$1443,1) -> 1
A68: 3-1/2"x18"x9' Parallam | B68: =SUMIFS(Takeoff!$B$11:$B$1443,Takeoff!$A$11:$A$1443,A68,Takeoff!$F$11:F$1443,1) -> 1
A69: 3-1/2"x18"x13' Parallam | B69: =SUMIFS(Takeoff!$B$11:$B$1443,Takeoff!$A$11:$A$1443,A69,Takeoff!$F$11:F$1443,1) -> 2
A70: 3-1/2"x18"x16' Parallam | B70: =SUMIFS(Takeoff!$B$11:$B$1443,Takeoff!$A$11:$A$1443,A70,Takeoff!$F$11:F$1443,1) -> 1 | D70: 3-1/2x18 PSL LF = | E70: =B66*5+B67*8+B68*9+B69*13+B70*16+B71*22 -> 108
A71: 3-1/2"x18"x22' Parallam | B71: =SUMIFS(Takeoff!$B$11:$B$1443,Takeoff!$A$11:$A$1443,A71,Takeoff!$F$11:F$1443,1) -> 2
A72: 5-1/4"x9-1/4"x5' Parallam | B72: =SUMIFS(Takeoff!$B$11:$B$1443,Takeoff!$A$11:$A$1443,A72,Takeoff!$F$11:F$1443,1) -> 1
A73: 5-1/4"x9-1/4"x6' Parallam | B73: =SUMIFS(Takeoff!$B$11:$B$1443,Takeoff!$A$11:$A$1443,A73,Takeoff!$F$11:F$1443,1) -> 7
A74: 5-1/4"x9-1/4"x7' Parallam | B74: =SUMIFS(Takeoff!$B$11:$B$1443,Takeoff!$A$11:$A$1443,A74,Takeoff!$F$11:F$1443,1) -> 8 | D74: 5-1/4x9-1/4 PSL LF = | E74: =B72*5+B73*6+B74*7+B75*8+B76*9+B77*10+B78*B11+B79*12+B80*13 -> 8673
A75: 5-1/4"x9-1/4"x8' Parallam | B75: =SUMIFS(Takeoff!$B$11:$B$1443,Takeoff!$A$11:$A$1443,A75,Takeoff!$F$11:F$1443,1) -> 1
A76: 5-1/4"x9-1/4"x9' Parallam | B76: =SUMIFS(Takeoff!$B$11:$B$1443,Takeoff!$A$11:$A$1443,A76,Takeoff!$F$11:F$1443,1) -> 1
A77: 5-1/4"x9-1/4"x10' Parallam | B77: =SUMIFS(Takeoff!$B$11:$B$1443,Takeoff!$A$11:$A$1443,A77,Takeoff!$F$11:F$1443,1) -> 1
A78: 5-1/4"x9-1/4"x11' Parallam | B78: =SUMIFS(Takeoff!$B$11:$B$1443,Takeoff!$A$11:$A$1443,A78,Takeoff!$F$11:F$1443,1) -> 2
A79: 5-1/4"x9-1/4"x12' Parallam | B79: =SUMIFS(Takeoff!$B$11:$B$1443,Takeoff!$A$11:$A$1443,A79,Takeoff!$F$11:F$1443,1) -> 3
A80: 5-1/4"x9-1/4"x13' Parallam | B80: =SUMIFS(Takeoff!$B$11:$B$1443,Takeoff!$A$11:$A$1443,A80,Takeoff!$F$11:F$1443,1) -> 1
A81: 5-1/4"x11-1/4"x6' Parallam | B81: =SUMIFS(Takeoff!$B$11:$B$1443,Takeoff!$A$11:$A$1443,A81,Takeoff!$F$11:F$1443,1) -> 2
A82: 5-1/4"x11-1/4"x7' Parallam | B82: =SUMIFS(Takeoff!$B$11:$B$1443,Takeoff!$A$11:$A$1443,A82,Takeoff!$F$11:F$1443,1) -> 1 | D82: 5-1/4x11-1/4 PSL LF = | E82: =B81*6+B82*7+B83*8+B84*9+B85*12+B86*13+B87*15+B88*16+B89*17+B90*19+B91*21+B92*22 -> 385
A83: 5-1/4"x11-1/4"x8' Parallam | B83: =SUMIFS(Takeoff!$B$11:$B$1443,Takeoff!$A$11:$A$1443,A83,Takeoff!$F$11:F$1443,1) -> 3
A84: 5-1/4"x11-1/4"x9' Parallam | B84: =SUMIFS(Takeoff!$B$11:$B$1443,Takeoff!$A$11:$A$1443,A84,Takeoff!$F$11:F$1443,1) -> 4
A85: 5-1/4"x11-1/4"x12' Parallam | B85: =SUMIFS(Takeoff!$B$11:$B$1443,Takeoff!$A$11:$A$1443,A85,Takeoff!$F$11:F$1443,1) -> 6
A86: 5-1/4"x11-1/4"x13' Parallam | B86: =SUMIFS(Takeoff!$B$11:$B$1443,Takeoff!$A$11:$A$1443,A86,Takeoff!$F$11:F$1443,1) -> 1
A87: 5-1/4"x11-1/4"x15' Parallam | B87: =SUMIFS(Takeoff!$B$11:$B$1443,Takeoff!$A$11:$A$1443,A87,Takeoff!$F$11:F$1443,1) -> 1
A88: 5-1/4"x11-1/4"x16' Parallam | B88: =SUMIFS(Takeoff!$B$11:$B$1443,Takeoff!$A$11:$A$1443,A88,Takeoff!$F$11:F$1443,1) -> 2
A89: 5-1/4"x11-1/4"x17' Parallam | B89: =SUMIFS(Takeoff!$B$11:$B$1443,Takeoff!$A$11:$A$1443,A89,Takeoff!$F$11:F$1443,1) -> 4
A90: 5-1/4"x11-1/4"x19' Parallam | B90: =SUMIFS(Takeoff!$B$11:$B$1443,Takeoff!$A$11:$A$1443,A90,Takeoff!$F$11:F$1443,1) -> 1
A91: 5-1/4"x11-1/4"x21' Parallam | B91: =SUMIFS(Takeoff!$B$11:$B$1443,Takeoff!$A$11:$A$1443,A91,Takeoff!$F$11:F$1443,1) -> 1
A92: 5-1/4"x11-1/4"x22' Parallam | B92: =SUMIFS(Takeoff!$B$11:$B$1443,Takeoff!$A$11:$A$1443,A92,Takeoff!$F$11:F$1443,1) -> 3
A93: 5-1/4"x14"x6' Parallam | B93: =SUMIFS(Takeoff!$B$11:$B$1443,Takeoff!$A$11:$A$1443,A93,Takeoff!$F$11:F$1443,1) -> 1
A94: 5-1/4"x14"x7' Parallam | B94: =SUMIFS(Takeoff!$B$11:$B$1443,Takeoff!$A$11:$A$1443,A94,Takeoff!$F$11:F$1443,1) -> 1
A95: 5-1/4"x14"x9' Parallam | B95: =SUMIFS(Takeoff!$B$11:$B$1443,Takeoff!$A$11:$A$1443,A95,Takeoff!$F$11:F$1443,1) -> 64
A96: 5-1/4"x14"x10' Parallam | B96: =SUMIFS(Takeoff!$B$11:$B$1443,Takeoff!$A$11:$A$1443,A96,Takeoff!$F$11:F$1443,1) -> 52 | D96: 5-1/4x14 PSL LF = | E96: =B93*6+B94*7+B95*9+B96*10+B97*11+B98*16+B99*32 -> 1304
A97: 5-1/4"x14"x11' Parallam | B97: =SUMIFS(Takeoff!$B$11:$B$1443,Takeoff!$A$11:$A$1443,A97,Takeoff!$F$11:F$1443,1) -> 9
A98: 5-1/4"x14"x16' Parallam | B98: =SUMIFS(Takeoff!$B$11:$B$1443,Takeoff!$A$11:$A$1443,A98,Takeoff!$F$11:F$1443,1) -> 4
A99: 5-1/4"x14"x32' Parallam | B99: =SUMIFS(Takeoff!$B$11:$B$1443,Takeoff!$A$11:$A$1443,A99,Takeoff!$F$11:F$1443,1) -> 1
A100: 5-1/4"x16"x10' Parallam | B100: =SUMIFS(Takeoff!$B$11:$B$1443,Takeoff!$A$11:$A$1443,A100,Takeoff!$F$11:F$1443,1) -> 1
A101: 5-1/4"x16"x19' Parallam | B101: =SUMIFS(Takeoff!$B$11:$B$1443,Takeoff!$A$11:$A$1443,A101,Takeoff!$F$11:F$1443,1) -> 1 | D101: 5-1/4x16 PSL LF = | E101: =B100*10+B101*19+B102*22+B103*28 -> 79
A102: 5-1/4"x16"x22' Parallam | B102: =SUMIFS(Takeoff!$B$11:$B$1443,Takeoff!$A$11:$A$1443,A102,Takeoff!$F$11:F$1443,1) -> 1
A103: 5-1/4"x16"x28' Parallam | B103: =SUMIFS(Takeoff!$B$11:$B$1443,Takeoff!$A$11:$A$1443,A103,Takeoff!$F$11:F$1443,1) -> 1
A104: 5-1/4"x18"x7' Parallam | B104: =SUMIFS(Takeoff!$B$11:$B$1443,Takeoff!$A$11:$A$1443,A104,Takeoff!$F$11:F$1443,1) -> 1
...
