Workbook

Sheet Takeoff
D1: October 28, 2025
A5: Plan dated 10.10.2025
F7: 1
F8: 1
A9: 1st Level Wall Framing | F9: 1
A10: Material | B10: Qty | D10: Notes | F10: 1
A11: 2x4-116-3/4 #2 Doug Fir Stud | B11: 4247 | F11: 1
A12: 2x6-116-3/4 #2 Doug Fir Stud | B12: 4329 | F12: 1
A13: 2x8-116-3/4 #2 Doug Fir Stud | B13: 83 | F13: 1
A14: 2x6-134-3/4 #2 Doug Fir Stud | B14: 1072 | F14: 1
A15: 2x4-12 #2 Doug Fir | B15: 378 | F15: 1
A16: 2x4-14 #2 Doug Fir | B16: 413 | F16: 1
A17: 2x4-16 #2 Doug Fir | B17: 378 | F17: 1
A18: 2x6-12' #2 Doug Fir | B18: 253 | F18: 1
A19: 2x6-14' #2 Doug Fir | B19: 289 | F19: 1
A20: 2x6-16' #2 Doug Fir | B20: 253 | F20: 1
A21: 2x8-10' #2 Doug Fir | F21: 1
A22: 2x8-12' #2 Doug Fir | B22: 11 | F22: 1
A23: 2x8-14' #2 Doug Fir | B23: 11 | F23: 1
A24: 2x8-16' #2 Doug Fir | B24: 27 | F24: 1
A25: 2x10-10 #2 Doug Fir | F25: 1
A26: 2x10-12 #2 Doug Fir | B26: 10 | F26: 1
A27: 2x10-14 #2 Doug Fir | B27: 10 | F27: 1
A28: 2x10-16 #2 Doug Fir | B28: 9 | F28: 1
A29: 2x12-10 #2 Doug Fir | F29: 1
A30: 2x12-12 #2 Doug Fir | B30: 7 | F30: 1
A31: 2x12-14 #2 Doug Fir | B31: 7 | F31: 1
A32: 2x12-16 #2 Doug Fir | B32: 5 | F32: 1
A33: 4x8-10 #2 Doug Fir | B33: 4 | F33: 1
A34: 6x6-10 #1 Doug Fir | B34: 8 | F34: 1
A35: 3-1/2"x5-1/2"x10' Parallam | B35: 4 | F35: 1
A36: 3-1/2"x14"x9' Parallam | B36: 1 | F36: 1
A37: 7"x7"x10' Parallam | B37: 4 | F37: 1
A38: 2x6-116-1/2 Fire Treated | B38: 52 | F38: 1
A39: 2x6-134-1/2 Fire Treated | B39: 1628 | F39: 1
A40: 2x8-134-1/2 Fire Treated | B40: 135 | F40: 1
A41: 2x4-10 Fire Treated | F41: 1
A42: 2x4-12 Fire Treated | B42: 108 | F42: 1
A43: 2x4-14 Fire Treated | B43: 25 | F43: 1
A44: 2x4-16 Fire Treated | B44: 25 | F44: 1
...

Sheet Project Totals
D1: October 28, 2025
A5: Plan dated 10.10.2025
A7: Framing Materials
A8: Material | B8: Qty | D8: Notes
A9: 2x4-104-1/2 #2 Doug Fir Stud | B9: =SUMIFS(Takeoff!$B$11:$B$1443,Takeoff!$A$11:$A$1443,A9,Takeoff!$F$11:F$1443,1) -> 42291
A10: 2x6-104-1/2 #2 Doug Fir Stud | B10: =SUMIFS(Takeoff!$B$11:$B$1443,Takeoff!$A$11:$A$1443,A10,Takeoff!$F$11:F$1443,1) -> 25184
A11: 2x4-116-3/4 #2 Doug Fir Stud | B11: =SUMIFS(Takeoff!$B$11:$B$1443,Takeoff!$A$11:$A$1443,A11,Takeoff!$F$11:F$1443,1) -> 4247
A12: 2x6-116-3/4 #2 Doug Fir Stud | B12: =SUMIFS(Takeoff!$B$11:$B$1443,Takeoff!$A$11:$A$1443,A12,Takeoff!$F$11:F$1443,1) -> 4329
A13: 2x8-116-3/4 #2 Doug Fir Stud | B13: =SUMIFS(Takeoff!$B$11:$B$1443,Takeoff!$A$11:$A$1443,A13,Takeoff!$F$11:F$1443,1) -> 83
A14: 2x6-122-1/2 #2 Doug Fir Stud | B14: =SUMIFS(Takeoff!$B$11:$B$1443,Takeoff!$A$11:$A$1443,A14,Takeoff!$F$11:F$1443,1) -> 3295
A15: 2x6-134-3/4 #2 Doug Fir Stud | B15: =SUMIFS(Takeoff!$B$11:$B$1443,Takeoff!$A$11:$A$1443,A15,Takeoff!$F$11:F$1443,1) -> 1072
A16: 2x4-12 #2 Doug Fir | B16: =SUMIFS(Takeoff!$B$11:$B$1443,Takeoff!$A$11:$A$1443,A16,Takeoff!$F$11:F$1443,1) -> 12224
A17: 2x4-14 #2 Doug Fir | B17: =SUMIFS(Takeoff!$B$11:$B$1443,Takeoff!$A$11:$A$1443,A17,Takeoff!$F$11:F$1443,1) -> 12458 | D17: 2x4 #2 DF LF = | E17: =B16*12+B17*14+B18*16 -> 485244
A18: 2x4-16 #2 Doug Fir | B18: =SUMIFS(Takeoff!$B$11:$B$1443,Takeoff!$A$11:$A$1443,A18,Takeoff!$F$11:F$1443,1) -> 10259
A19: 2x6-12' #2 Doug Fir | B19: =SUMIFS(Takeoff!$B$11:$B$1443,Takeoff!$A$11:$A$1443,A19,Takeoff!$F$11:F$1443,1) -> 8719
A20: 2x6-14' #2 Doug Fir | B20: =SUMIFS(Takeoff!$B$11:$B$1443,Takeoff!$A$11:$A$1443,A20,Takeoff!$F$11:F$1443,1) -> 7568 | D20: 2x6 #2 DF LF = | E20: =B19*12+B20*14+B21*16+B22*18 -> 344148
A21: 2x6-16' #2 Doug Fir | B21: =SUMIFS(Takeoff!$B$11:$B$1443,Takeoff!$A$11:$A$1443,A21,Takeoff!$F$11:F$1443,1) -> 8348
A22: 2x6-18' #2 Doug Fir | B22: =SUMIFS(Takeoff!$B$11:$B$1443,Takeoff!$A$11:$A$1443,A22,Takeoff!$F$11:F$1443,1) -> 0
A23: 2x8-10' #2 Doug Fir | B23: =SUMIFS(Takeoff!$B$11:$B$1443,Takeoff!$A$11:$A$1443,A23,Takeoff!$F$11:F$1443,1) -> 578 | D23: 2x8 #2 DF LF = | E23: =B24*12+B25*14+B23*10+B26*16 -> 25916
A24: 2x8-12' #2 Doug Fir | B24: =SUMIFS(Takeoff!$B$11:$B$1443,Takeoff!$A$11:$A$1443,A24,Takeoff!$F$11:F$1443,1) -> 471
A25: 2x8-14' #2 Doug Fir | B25: =SUMIFS(Takeoff!$B$11:$B$1443,Takeoff!$A$11:$A$1443,A25,Takeoff!$F$11:F$1443,1) -> 214
A26: 2x8-16' #2 Doug Fir | B26: =SUMIFS(Takeoff!$B$11:$B$1443,Takeoff!$A$11:$A$1443,A26,Takeoff!$F$11:F$1443,1) -> 718
A27: 2x10-10 #2 Doug Fir | B27: =SUMIFS(Takeoff!$B$11:$B$1443,Takeoff!$A$11:$A$1443,A27,Takeoff!$F$11:F$1443,1) -> 14
A28: 2x10-12 #2 Doug Fir | B28: =SUMIFS(Takeoff!$B$11:$B$1443,Takeoff!$A$11:$A$1443,A28,Takeoff!$F$11:F$1443,1) -> 1113
A29: 2x10-14 #2 Doug Fir | B29: =SUMIFS(Takeoff!$B$11:$B$1443,Takeoff!$A$11:$A$1443,A29,Takeoff!$F$11:F$1443,1) -> 446 | D29: 2x10 #2 DF LF = | E29: =B28*12+B29*14+B27*10+B30*16 -> 25756
A30: 2x10-16 #2 Doug Fir | B30: =SUMIFS(Takeoff!$B$11:$B$1443,Takeoff!$A$11:$A$1443,A30,Takeoff!$F$11:F$1443,1) -> 376
A31: 2x12-10 #2 Doug Fir | B31: =SUMIFS(Takeoff!$B$11:$B$1443,Takeoff!$A$11:$A$1443,A31,Takeoff!$F$11:F$1443,1) -> 36
A32: 2x12-12 #2 Doug Fir | B32: =SUMIFS(Takeoff!$B$11:$B$1443,Takeoff!$A$11:$A$1443,A32,Takeoff!$F$11:F$1443,1) -> 536
A33: 2x12-14 #2 Doug Fir | B33: =SUMIFS(Takeoff!$B$11:$B$1443,Takeoff!$A$11:$A$1443,A33,Takeoff!$F$11:F$1443,1) -> 324 | D33: 2x12 #2 DF LF = | E33: =B33*14+B34*16+B31*10+B32*12 -> 22544
A34: 2x12-16 #2 Doug Fir | B34: =SUMIFS(Takeoff!$B$11:$B$1443,Takeoff!$A$11:$A$1443,A34,Takeoff!$F$11:F$1443,1) -> 701
A35: 4x8-10 #2 Doug Fir | B35: =SUMIFS(Takeoff!$B$11:$B$1443,Takeoff!$A$11:$A$1443,A35,Takeoff!$F$11:F$1443,1) -> 60
A36: 6x6-10 #1 Doug Fir | B36: =SUMIFS(Takeoff!$B$11:$B$1443,Takeoff!$A$11:$A$1443,A36,Takeoff!$F$11:F$1443,1) -> 120
A37: 3-1/2"x5-1/2"x10' Parallam | B37: =SUMIFS(Takeoff!$B$11:$B$1443,Takeoff!$A$11:$A$1443,A37,Takeoff!$F$11:F$1443,1) -> 54 | D37: 3-1/2x5-1/2 PSL LF = | E37: =B37*10+B38*16 -> 700
A38: 3-1/2"x5-1/2"x16' Parallam | B38: =SUMIFS(Takeoff!$B$11:$B$1443,Takeoff!$A$11:$A$1443,A38,Takeoff!$F$11:F$1443,1) -> 10
A39: 3-1/2"x9-1/4"x7' Parallam | B39: =SUMIFS(Takeoff!$B$11:$B$1443,Takeoff!$A$11:$A$1443,A39,Takeoff!$F$11:F$1443,1) -> 3
A40: 3-1/2"x9-1/4"x8' Parallam | B40: =SUMIFS(Takeoff!$B$11:$B$1443,Takeoff!$A$11:$A$1443,A40,Takeoff!$F$11:F$1443,1) -> 5
A41: 3-1/2"x9-1/4"x11' Parallam | B41: =SUMIFS(Takeoff!$B$11:$B$1443,Takeoff!$A$11:$A$1443,A41,Takeoff!$F$11:F$1443,1) -> 1 | D41: 3-1/2x9-1/4 PSL LF = | E41: =B39*7+B40*8+B41*11+B42*12+B43*16 -> 100
A42: 3-1/2"x9-1/4"x12' Parallam | B42: =SUMIFS(Takeoff!$B$11:$B$1443,Takeoff!$A$11:$A$1443,A42,Takeoff!$F$11:F$1443,1) -> 1
A43: 3-1/2"x9-1/4"x16' Parallam | B43: =SUMIFS(Takeoff!$B$11:$B$1443,Takeoff!$A$11:$A$1443,A43,Takeoff!$F$11:F$1443,1) -> 1
A44: 3-1/2"x11-1/4"x6' Parallam | B44: =SUMIFS(Takeoff!$B$11:$B$1443,Takeoff!$A$11:$A$1443,A44,Takeoff!$F$11:F$1443,1) -> 7
...
